BEGIN:VCALENDAR
VERSION:2.0
PRODID:-//Družba &quot;Braća Hrvatskoga Zmaja&quot; - ECPv6.15.18//NONSGML v1.0//EN
CALSCALE:GREGORIAN
METHOD:PUBLISH
X-WR-CALNAME:Družba &quot;Braća Hrvatskoga Zmaja&quot;
X-ORIGINAL-URL:https://dbhz.hr
X-WR-CALDESC:Događaji za Družba &quot;Braća Hrvatskoga Zmaja&quot;
REFRESH-INTERVAL;VALUE=DURATION:PT1H
X-Robots-Tag:noindex
X-PUBLISHED-TTL:PT1H
BEGIN:VTIMEZONE
TZID:Europe/Helsinki
BEGIN:DAYLIGHT
TZOFFSETFROM:+0200
TZOFFSETTO:+0300
TZNAME:EEST
DTSTART:20220327T010000
END:DAYLIGHT
BEGIN:STANDARD
TZOFFSETFROM:+0300
TZOFFSETTO:+0200
TZNAME:EET
DTSTART:20221030T010000
END:STANDARD
BEGIN:DAYLIGHT
TZOFFSETFROM:+0200
TZOFFSETTO:+0300
TZNAME:EEST
DTSTART:20230326T010000
END:DAYLIGHT
BEGIN:STANDARD
TZOFFSETFROM:+0300
TZOFFSETTO:+0200
TZNAME:EET
DTSTART:20231029T010000
END:STANDARD
BEGIN:DAYLIGHT
TZOFFSETFROM:+0200
TZOFFSETTO:+0300
TZNAME:EEST
DTSTART:20240331T010000
END:DAYLIGHT
BEGIN:STANDARD
TZOFFSETFROM:+0300
TZOFFSETTO:+0200
TZNAME:EET
DTSTART:20241027T010000
END:STANDARD
END:VTIMEZONE
BEGIN:VEVENT
DTSTART;TZID=Europe/Helsinki:20231027T180000
DTEND;TZID=Europe/Helsinki:20231027T190000
DTSTAMP:20260423T035352
CREATED:20231002T114536Z
LAST-MODIFIED:20231002T114927Z
UID:12451-1698429600-1698433200@dbhz.hr
SUMMARY:Autorica Tea Marinović predstavlja set knjiga vezanih za korčulansku tematiku
DESCRIPTION:Knige koje će autorica predstaviti iz svog opusa korčulanske tematike su: „Korčulanski jedrenjaci“\, „Korčulanski svjetlopis“\, „Kočulanske kartuline“ i „Meštrovica“. \nOrganizator: Zmajski stol u Splitu.
URL:https://dbhz.hr/najava/atorica-tea-marinovic-predstavlja-set-knjiga-vezanih-za-korculansku-tematiku/
LOCATION:Gradska knjižnica Marka Marulića\, Slobode ulica 2\, SPLIT\, 21000
CATEGORIES:Predstavljanja knjiga, publikacija, osoba...
ATTACH;FMTTYPE=image/jpeg:https://dbhz.hr/wp-content/uploads/2023/10/matica_107_svjetlopis_01.jpg
END:VEVENT
END:VCALENDAR