BEGIN:VCALENDAR
VERSION:2.0
PRODID:-//Družba &quot;Braća Hrvatskoga Zmaja&quot; - ECPv6.15.18//NONSGML v1.0//EN
CALSCALE:GREGORIAN
METHOD:PUBLISH
X-WR-CALNAME:Družba &quot;Braća Hrvatskoga Zmaja&quot;
X-ORIGINAL-URL:https://dbhz.hr
X-WR-CALDESC:Događaji za Družba &quot;Braća Hrvatskoga Zmaja&quot;
REFRESH-INTERVAL;VALUE=DURATION:PT1H
X-Robots-Tag:noindex
X-PUBLISHED-TTL:PT1H
BEGIN:VTIMEZONE
TZID:Europe/Helsinki
BEGIN:DAYLIGHT
TZOFFSETFROM:+0200
TZOFFSETTO:+0300
TZNAME:EEST
DTSTART:20220327T010000
END:DAYLIGHT
BEGIN:STANDARD
TZOFFSETFROM:+0300
TZOFFSETTO:+0200
TZNAME:EET
DTSTART:20221030T010000
END:STANDARD
BEGIN:DAYLIGHT
TZOFFSETFROM:+0200
TZOFFSETTO:+0300
TZNAME:EEST
DTSTART:20230326T010000
END:DAYLIGHT
BEGIN:STANDARD
TZOFFSETFROM:+0300
TZOFFSETTO:+0200
TZNAME:EET
DTSTART:20231029T010000
END:STANDARD
BEGIN:DAYLIGHT
TZOFFSETFROM:+0200
TZOFFSETTO:+0300
TZNAME:EEST
DTSTART:20240331T010000
END:DAYLIGHT
BEGIN:STANDARD
TZOFFSETFROM:+0300
TZOFFSETTO:+0200
TZNAME:EET
DTSTART:20241027T010000
END:STANDARD
END:VTIMEZONE
BEGIN:VEVENT
DTSTART;VALUE=DATE:20231006
DTEND;VALUE=DATE:20231021
DTSTAMP:20260422T191926
CREATED:20230929T073109Z
LAST-MODIFIED:20230929T073211Z
UID:12374-1696550400-1697846399@dbhz.hr
SUMMARY:Filatelistička izložba:  „POŠTANSKE MARKE REPUBLIKE HRVATSKE S DRŽAVOTVORNIM MOTIVIMA“
DESCRIPTION:• Izložba je postavljena na Učiteljskom fakultetu Sveučilišta u Rijeci uoči spomendana 8. listopada\, koji se obilježava kao Dan Hrvatskoga sabora\, u sjećanje na dan kada je Sabor Republike Hrvatske 1991. godine jednoglasno donio Odluku o raskidu svih državnopravnih veza Republike Hrvatske s bivšom državom.\n• Ova izložba poštanskih maraka zamišljena je kao gostujuća odnosno putujuća izložba\, koja će se u narednim razdoblju moći predstaviti širom Domovine\, a Učiteljski fakultet Sveučilišta u Rijeci prvi je gdje\, nakon predstavljanja u Kuli nad Kamenitim vratima u Zagrebu\, izložba gostuje. \nSuorganizatori:\nHrvatsko grboslovno i zastavoslovno društvo\, Družba „Braća Hrvatskoga Zmaja“ i Učiteljski fakultet Sveučilišta u Rijeci.
URL:https://dbhz.hr/najava/filatelisticka-izlozba-postanske-marke-republike-hrvatske-s-drzavotvornim-motivima/
LOCATION:Aula Učiteljskog fakulteta Sveučilišta u Rijeci\, Sveučilišna avenija 6\, RIJEKA\, 51000\, Croatia (Local Name: Hrvatska)
CATEGORIES:Izložbe
ATTACH;FMTTYPE=image/jpeg:https://dbhz.hr/wp-content/uploads/2023/09/Filatelisticka-izlozba-2023_10.jpg
END:VEVENT
END:VCALENDAR