BEGIN:VCALENDAR
VERSION:2.0
PRODID:-//Družba &quot;Braća Hrvatskoga Zmaja&quot; - ECPv6.15.18//NONSGML v1.0//EN
CALSCALE:GREGORIAN
METHOD:PUBLISH
X-WR-CALNAME:Družba &quot;Braća Hrvatskoga Zmaja&quot;
X-ORIGINAL-URL:https://dbhz.hr
X-WR-CALDESC:Događaji za Družba &quot;Braća Hrvatskoga Zmaja&quot;
REFRESH-INTERVAL;VALUE=DURATION:PT1H
X-Robots-Tag:noindex
X-PUBLISHED-TTL:PT1H
BEGIN:VTIMEZONE
TZID:Europe/Helsinki
BEGIN:DAYLIGHT
TZOFFSETFROM:+0200
TZOFFSETTO:+0300
TZNAME:EEST
DTSTART:20220327T010000
END:DAYLIGHT
BEGIN:STANDARD
TZOFFSETFROM:+0300
TZOFFSETTO:+0200
TZNAME:EET
DTSTART:20221030T010000
END:STANDARD
BEGIN:DAYLIGHT
TZOFFSETFROM:+0200
TZOFFSETTO:+0300
TZNAME:EEST
DTSTART:20230326T010000
END:DAYLIGHT
BEGIN:STANDARD
TZOFFSETFROM:+0300
TZOFFSETTO:+0200
TZNAME:EET
DTSTART:20231029T010000
END:STANDARD
BEGIN:DAYLIGHT
TZOFFSETFROM:+0200
TZOFFSETTO:+0300
TZNAME:EEST
DTSTART:20240331T010000
END:DAYLIGHT
BEGIN:STANDARD
TZOFFSETFROM:+0300
TZOFFSETTO:+0200
TZNAME:EET
DTSTART:20241027T010000
END:STANDARD
END:VTIMEZONE
BEGIN:VEVENT
DTSTART;TZID=Europe/Helsinki:20230627T210000
DTEND;TZID=Europe/Helsinki:20230627T220000
DTSTAMP:20260422T002057
CREATED:20230601T110412Z
LAST-MODIFIED:20230601T112108Z
UID:11672-1687899600-1687903200@dbhz.hr
SUMMARY:KONCERT djela fra Bernardina Sokola\, Zmaja Putaljskog\, iz njegovog ciklusa ANGELUSI
DESCRIPTION: iz 1939. godine\, uz predstavljanje istoimenog CD izdanja tiskanog 2022. u izdanju Hrvatskog društva dr. fra Bernardin Sokol iz Kaštel Sućurca i Družbe „Braća Hrvatskoga Zmaja“. \nKoncert povodom 300. obljetnice osnutka Župe sv. Ivana Krstitelja u Kaštel Starom i 135. obljetnice rođenja fra Bernadina Sokola\, Zmaja Putaljskog. \nKoncert će izvesti:\nLidija Horvat Dunjko\, Zmajica od Zagorja IV.\, sopran\,\nEmanuel Tomljenović tenor\,\nMario Čopor glasovir\, uz ostale izvođače na violini i violončelu\,\nuz umjetničko vodstvo maestra Josipa degl’ Ivellia\, Zmaja Bračkog II. \nOrganizator:\nŽupa sv. Ivana Krstitelja\, Kaštel Stari. \nSuorganizator:\nDružba „Braća Hrvatskoga Zmaja“ – Zmajski stol u Splitu.
URL:https://dbhz.hr/najava/koncert-djela-fra-bernardina-sokola-zmaja-putaljskog-iz-njegovog-ciklusa-angelusi/
LOCATION:Župa sv. Ivana Krstitelja\, Ul. Ivana Danila 21\, Kaštel Stari\, 21216
CATEGORIES:Koncerti
ATTACH;FMTTYPE=image/jpeg:https://dbhz.hr/wp-content/uploads/2023/06/27_06_2023.jpg
END:VEVENT
END:VCALENDAR