BEGIN:VCALENDAR
VERSION:2.0
PRODID:-//Družba &quot;Braća Hrvatskoga Zmaja&quot; - ECPv6.15.18//NONSGML v1.0//EN
CALSCALE:GREGORIAN
METHOD:PUBLISH
X-WR-CALNAME:Družba &quot;Braća Hrvatskoga Zmaja&quot;
X-ORIGINAL-URL:https://dbhz.hr
X-WR-CALDESC:Događaji za Družba &quot;Braća Hrvatskoga Zmaja&quot;
REFRESH-INTERVAL;VALUE=DURATION:PT1H
X-Robots-Tag:noindex
X-PUBLISHED-TTL:PT1H
BEGIN:VTIMEZONE
TZID:Europe/Helsinki
BEGIN:DAYLIGHT
TZOFFSETFROM:+0200
TZOFFSETTO:+0300
TZNAME:EEST
DTSTART:20220327T010000
END:DAYLIGHT
BEGIN:STANDARD
TZOFFSETFROM:+0300
TZOFFSETTO:+0200
TZNAME:EET
DTSTART:20221030T010000
END:STANDARD
BEGIN:DAYLIGHT
TZOFFSETFROM:+0200
TZOFFSETTO:+0300
TZNAME:EEST
DTSTART:20230326T010000
END:DAYLIGHT
BEGIN:STANDARD
TZOFFSETFROM:+0300
TZOFFSETTO:+0200
TZNAME:EET
DTSTART:20231029T010000
END:STANDARD
BEGIN:DAYLIGHT
TZOFFSETFROM:+0200
TZOFFSETTO:+0300
TZNAME:EEST
DTSTART:20240331T010000
END:DAYLIGHT
BEGIN:STANDARD
TZOFFSETFROM:+0300
TZOFFSETTO:+0200
TZNAME:EET
DTSTART:20241027T010000
END:STANDARD
END:VTIMEZONE
BEGIN:VEVENT
DTSTART;TZID=Europe/Helsinki:20230608T200000
DTEND;TZID=Europe/Helsinki:20230608T210000
DTSTAMP:20260421T224328
CREATED:20230601T100046Z
LAST-MODIFIED:20230601T112211Z
UID:11652-1686254400-1686258000@dbhz.hr
SUMMARY:Koncert: HRVATSKI BAROKNI ANSAMBL (HRBA) U OKVIRU 9. ZRIN FESTIVALA
DESCRIPTION:Organizator:\nHrvatska udruga Ars Organi Sisciae. \nSuorganizator i pokrovitelj:\nDružba „Braća Hrvatskoga Zmaja“.
URL:https://dbhz.hr/najava/koncert-hrvatski-barokni-ansambl-hrba-u-okviru-9-zrin-festivala/
LOCATION:Stari grad Ozalj\, Ul. Zrinskih i Frankopana 2\, OZALJ\, 47280
CATEGORIES:Koncerti
ATTACH;FMTTYPE=image/jpeg:https://dbhz.hr/wp-content/uploads/2023/06/08_06_2023.jpg
END:VEVENT
END:VCALENDAR