BEGIN:VCALENDAR
VERSION:2.0
PRODID:-//Družba &quot;Braća Hrvatskoga Zmaja&quot; - ECPv6.15.18//NONSGML v1.0//EN
CALSCALE:GREGORIAN
METHOD:PUBLISH
X-WR-CALNAME:Družba &quot;Braća Hrvatskoga Zmaja&quot;
X-ORIGINAL-URL:https://dbhz.hr
X-WR-CALDESC:Događaji za Družba &quot;Braća Hrvatskoga Zmaja&quot;
REFRESH-INTERVAL;VALUE=DURATION:PT1H
X-Robots-Tag:noindex
X-PUBLISHED-TTL:PT1H
BEGIN:VTIMEZONE
TZID:Europe/Helsinki
BEGIN:DAYLIGHT
TZOFFSETFROM:+0200
TZOFFSETTO:+0300
TZNAME:EEST
DTSTART:20220327T010000
END:DAYLIGHT
BEGIN:STANDARD
TZOFFSETFROM:+0300
TZOFFSETTO:+0200
TZNAME:EET
DTSTART:20221030T010000
END:STANDARD
BEGIN:DAYLIGHT
TZOFFSETFROM:+0200
TZOFFSETTO:+0300
TZNAME:EEST
DTSTART:20230326T010000
END:DAYLIGHT
BEGIN:STANDARD
TZOFFSETFROM:+0300
TZOFFSETTO:+0200
TZNAME:EET
DTSTART:20231029T010000
END:STANDARD
BEGIN:DAYLIGHT
TZOFFSETFROM:+0200
TZOFFSETTO:+0300
TZNAME:EEST
DTSTART:20240331T010000
END:DAYLIGHT
BEGIN:STANDARD
TZOFFSETFROM:+0300
TZOFFSETTO:+0200
TZNAME:EET
DTSTART:20241027T010000
END:STANDARD
END:VTIMEZONE
BEGIN:VEVENT
DTSTART;TZID=Europe/Helsinki:20230514T110000
DTEND;TZID=Europe/Helsinki:20230514T120000
DTSTAMP:20260421T160236
CREATED:20230428T075746Z
LAST-MODIFIED:20230428T075746Z
UID:11438-1684062000-1684065600@dbhz.hr
SUMMARY:MAJČIN DAN - SVETA MISA I PRIGODNI PROGRAM
DESCRIPTION:Organizatori:\nŽupa Sveta Tri Kralja\, Osnovna škola Veliko Trgovišće i\nDružba „Braća Hrvatskoga Zmaja”.   \nPredstavnik Velikoga meštra i Družbe:\nNikola Sebastian Jambrošić\, Zmaj Donjomeđimurski\, zamjenik pročelnika Umjetničke sekcije.
URL:https://dbhz.hr/najava/majcin-dan-sveta-misa-i-prigodni-program/
LOCATION:Crkva Sveta Tri Kralja\, Velika Erpenja\, Velika Erpenja\, 49215
CATEGORIES:Blagoslovi i mise
ATTACH;FMTTYPE=image/jpeg:https://dbhz.hr/wp-content/uploads/2023/04/14_05_2023B.jpg
END:VEVENT
END:VCALENDAR