BEGIN:VCALENDAR
VERSION:2.0
PRODID:-//Družba &quot;Braća Hrvatskoga Zmaja&quot; - ECPv6.15.18//NONSGML v1.0//EN
CALSCALE:GREGORIAN
METHOD:PUBLISH
X-WR-CALNAME:Družba &quot;Braća Hrvatskoga Zmaja&quot;
X-ORIGINAL-URL:https://dbhz.hr
X-WR-CALDESC:Događaji za Družba &quot;Braća Hrvatskoga Zmaja&quot;
REFRESH-INTERVAL;VALUE=DURATION:PT1H
X-Robots-Tag:noindex
X-PUBLISHED-TTL:PT1H
BEGIN:VTIMEZONE
TZID:Europe/Helsinki
BEGIN:DAYLIGHT
TZOFFSETFROM:+0200
TZOFFSETTO:+0300
TZNAME:EEST
DTSTART:20220327T010000
END:DAYLIGHT
BEGIN:STANDARD
TZOFFSETFROM:+0300
TZOFFSETTO:+0200
TZNAME:EET
DTSTART:20221030T010000
END:STANDARD
BEGIN:DAYLIGHT
TZOFFSETFROM:+0200
TZOFFSETTO:+0300
TZNAME:EEST
DTSTART:20230326T010000
END:DAYLIGHT
BEGIN:STANDARD
TZOFFSETFROM:+0300
TZOFFSETTO:+0200
TZNAME:EET
DTSTART:20231029T010000
END:STANDARD
BEGIN:DAYLIGHT
TZOFFSETFROM:+0200
TZOFFSETTO:+0300
TZNAME:EEST
DTSTART:20240331T010000
END:DAYLIGHT
BEGIN:STANDARD
TZOFFSETFROM:+0300
TZOFFSETTO:+0200
TZNAME:EET
DTSTART:20241027T010000
END:STANDARD
END:VTIMEZONE
BEGIN:VEVENT
DTSTART;TZID=Europe/Helsinki:20231220T150000
DTEND;TZID=Europe/Helsinki:20231220T200000
DTSTAMP:20260422T151147
CREATED:20231129T150027Z
LAST-MODIFIED:20231129T145733Z
UID:12659-1703084400-1703102400@dbhz.hr
SUMMARY:OBILJEŽAVANJE 30. OBLJETNICE BIJELOG PUTA ZA NOVU BILU I BOSNU SREBRENU (1993. - 2023.)
DESCRIPTION:Nova Bila i Vitez\, Bosna i Hercegovina \n\n15.00 sati – doček uzvanika u prostorijama braniteljskih udruga HVO Travnik Donje Putičevo;\n15.30 sati – polaganje vijenca i paljenje svijeća kod spomen-obilježja groblje Prahulje;\n16.00 sati – posjet i obilazak ratne bolnice u Novoj Biloj sa svećenikom te kratki sat povijesti i izložba fotografija te 15-minutni film o blaženom Alojziju Stepincu;\n16.45 sati – otkrivanje bisti i polaganje vijenaca i paljenje svijeća;\n17.00 sati – Sveta misa u župnoj crkvi za sve poginule i umrle hrvatske branitelje i civile;\n19.00 sati – Svečana akademija u franšiznom centru u Vitezu.\n\nSuorganizator izložbe i projekcije filma:\nDružba „Braća Hrvatskoga Zmaja“ – Zmajski stol u Osijeku.
URL:https://dbhz.hr/najava/obiljezavanje-30-obljetnice-bijelog-puta-za-novu-bilu-i-bosnu-srebrenu-1993-2023/
LOCATION:Nova Bila\, Nova Bila\, Bosnia and Herzegovina
CATEGORIES:Godišnjice
ATTACH;FMTTYPE=image/jpeg:https://dbhz.hr/wp-content/uploads/2023/11/ZV_2023_12-Nova-Bila-v.jpg
END:VEVENT
END:VCALENDAR