BEGIN:VCALENDAR
VERSION:2.0
PRODID:-//Družba &quot;Braća Hrvatskoga Zmaja&quot; - ECPv6.15.18//NONSGML v1.0//EN
CALSCALE:GREGORIAN
METHOD:PUBLISH
X-WR-CALNAME:Družba &quot;Braća Hrvatskoga Zmaja&quot;
X-ORIGINAL-URL:https://dbhz.hr
X-WR-CALDESC:Događaji za Družba &quot;Braća Hrvatskoga Zmaja&quot;
REFRESH-INTERVAL;VALUE=DURATION:PT1H
X-Robots-Tag:noindex
X-PUBLISHED-TTL:PT1H
BEGIN:VTIMEZONE
TZID:Europe/Helsinki
BEGIN:DAYLIGHT
TZOFFSETFROM:+0200
TZOFFSETTO:+0300
TZNAME:EEST
DTSTART:20220327T010000
END:DAYLIGHT
BEGIN:STANDARD
TZOFFSETFROM:+0300
TZOFFSETTO:+0200
TZNAME:EET
DTSTART:20221030T010000
END:STANDARD
BEGIN:DAYLIGHT
TZOFFSETFROM:+0200
TZOFFSETTO:+0300
TZNAME:EEST
DTSTART:20230326T010000
END:DAYLIGHT
BEGIN:STANDARD
TZOFFSETFROM:+0300
TZOFFSETTO:+0200
TZNAME:EET
DTSTART:20231029T010000
END:STANDARD
BEGIN:DAYLIGHT
TZOFFSETFROM:+0200
TZOFFSETTO:+0300
TZNAME:EEST
DTSTART:20240331T010000
END:DAYLIGHT
BEGIN:STANDARD
TZOFFSETFROM:+0300
TZOFFSETTO:+0200
TZNAME:EET
DTSTART:20241027T010000
END:STANDARD
END:VTIMEZONE
BEGIN:VEVENT
DTSTART;TZID=Europe/Helsinki:20231205T170000
DTEND;TZID=Europe/Helsinki:20231205T190000
DTSTAMP:20260422T134751
CREATED:20231129T150029Z
LAST-MODIFIED:20231129T145900Z
UID:12622-1701795600-1701802800@dbhz.hr
SUMMARY:OBILJEŽAVANJE 80. OBLJETNICE BOMBARDIRANJA ŽUPNE CRKVE SV. JURJA MUČENIKA U KAŠTEL SUĆURCU
DESCRIPTION:u 17 sati – Sveta misa u župnoj crkvi;\nodrješenje kod starog zvonika pred spomen-pločom s imenima poginulih;\nizložba i dva predavanja u Nadbiskupskoj palači u Muzeju grada Kaštela; predavači: dr. sc. Tihomir Rajčić i prof. dr. sc. Krešimir Kužić; izložba je u organizaciji Muzeja grada Kaštela i gđe Ankice Babin\, prof.\n\nSuorganizatori:\nGrad Kaštela\, Župa sv. Jurja\, Sućuračko društvo „Podvorje“\, Mjesni odbor Kaštel Sućurca i Družba „Braća Hrvatskoga Zmaja“ – Zmajski stol u Splitu. \nPokrovitelji:\nGrad Kaštela\, Splitsko-dalmatinska županija\, Hrvatski sabor.
URL:https://dbhz.hr/najava/obiljezavanje-80-obljetnice-bombardiranja-zupne-crkve-sv-jurja-mucenika-u-kastel-sucurcu/
LOCATION:Župna crkva sv. Jurja\, Župna crkva sv. Jurja\, Obala kralja Tomislava 20\, 21212\, Kaštel Sućurac
CATEGORIES:Godišnjice
ATTACH;FMTTYPE=image/jpeg:https://dbhz.hr/wp-content/uploads/2023/11/ZV_2023_12-Kastel-Sucurac.jpg
END:VEVENT
END:VCALENDAR