BEGIN:VCALENDAR
VERSION:2.0
PRODID:-//Družba &quot;Braća Hrvatskoga Zmaja&quot; - ECPv6.15.18//NONSGML v1.0//EN
CALSCALE:GREGORIAN
METHOD:PUBLISH
X-WR-CALNAME:Družba &quot;Braća Hrvatskoga Zmaja&quot;
X-ORIGINAL-URL:https://dbhz.hr
X-WR-CALDESC:Događaji za Družba &quot;Braća Hrvatskoga Zmaja&quot;
REFRESH-INTERVAL;VALUE=DURATION:PT1H
X-Robots-Tag:noindex
X-PUBLISHED-TTL:PT1H
BEGIN:VTIMEZONE
TZID:Europe/Helsinki
BEGIN:DAYLIGHT
TZOFFSETFROM:+0200
TZOFFSETTO:+0300
TZNAME:EEST
DTSTART:20230326T010000
END:DAYLIGHT
BEGIN:STANDARD
TZOFFSETFROM:+0300
TZOFFSETTO:+0200
TZNAME:EET
DTSTART:20231029T010000
END:STANDARD
BEGIN:DAYLIGHT
TZOFFSETFROM:+0200
TZOFFSETTO:+0300
TZNAME:EEST
DTSTART:20240331T010000
END:DAYLIGHT
BEGIN:STANDARD
TZOFFSETFROM:+0300
TZOFFSETTO:+0200
TZNAME:EET
DTSTART:20241027T010000
END:STANDARD
BEGIN:DAYLIGHT
TZOFFSETFROM:+0200
TZOFFSETTO:+0300
TZNAME:EEST
DTSTART:20250330T010000
END:DAYLIGHT
BEGIN:STANDARD
TZOFFSETFROM:+0300
TZOFFSETTO:+0200
TZNAME:EET
DTSTART:20251026T010000
END:STANDARD
END:VTIMEZONE
BEGIN:VEVENT
DTSTART;TZID=Europe/Helsinki:20240604T160000
DTEND;TZID=Europe/Helsinki:20240604T170000
DTSTAMP:20260423T013809
CREATED:20240529T120016Z
LAST-MODIFIED:20240529T113242Z
UID:14821-1717516800-1717520400@dbhz.hr
SUMMARY:Otvorenje filatelističke izložbe: „POŠTANSKE MARKE REPUBLIKE HRVATSKE S DRŽAVOTVORNIM MOTIVIMA“
DESCRIPTION:– u prigodi Dana hrvatske zastave 5. lipnja\n \nAutori izložbe:\nJulije Maras\, Zoran Vlahović i Željko Heimer\, Zmaj od Mesničkih vrata\n \nFilatelistički materijal:\nHrvatska pošta d. d.\, Hrvatski savez filatelista i autori\n \nSuorganizatori:\nHrvatsko grboslovno i zastavoslovno društvo\, Družba „Braća Hrvatskoga Zmaja“ i POU „Dr. Ante Starčević“ Gospić\n \nKoordinatorica:\nMarija Ružić\, zmajska pripravnica
URL:https://dbhz.hr/najava/otvorenje-filatelisticke-izlozbe-postanske-marke-republike-hrvatske-s-drzavotvornim-motivima/
LOCATION:Pučko otvoreno učilište „Dr. Ante Starčević“ Gospić\, Ul. Dr. Franje Tuđmana 5\, Gospić\, 53000\, Croatia (Local Name: Hrvatska)
CATEGORIES:Izložbe
ATTACH;FMTTYPE=image/jpeg:https://dbhz.hr/wp-content/uploads/2024/05/ZV_2024_06_Izlozba-Gospic.jpg
END:VEVENT
END:VCALENDAR