BEGIN:VCALENDAR
VERSION:2.0
PRODID:-//Družba &quot;Braća Hrvatskoga Zmaja&quot; - ECPv6.15.18//NONSGML v1.0//EN
CALSCALE:GREGORIAN
METHOD:PUBLISH
X-WR-CALNAME:Družba &quot;Braća Hrvatskoga Zmaja&quot;
X-ORIGINAL-URL:https://dbhz.hr
X-WR-CALDESC:Događaji za Družba &quot;Braća Hrvatskoga Zmaja&quot;
REFRESH-INTERVAL;VALUE=DURATION:PT1H
X-Robots-Tag:noindex
X-PUBLISHED-TTL:PT1H
BEGIN:VTIMEZONE
TZID:Europe/Helsinki
BEGIN:DAYLIGHT
TZOFFSETFROM:+0200
TZOFFSETTO:+0300
TZNAME:EEST
DTSTART:20220327T010000
END:DAYLIGHT
BEGIN:STANDARD
TZOFFSETFROM:+0300
TZOFFSETTO:+0200
TZNAME:EET
DTSTART:20221030T010000
END:STANDARD
BEGIN:DAYLIGHT
TZOFFSETFROM:+0200
TZOFFSETTO:+0300
TZNAME:EEST
DTSTART:20230326T010000
END:DAYLIGHT
BEGIN:STANDARD
TZOFFSETFROM:+0300
TZOFFSETTO:+0200
TZNAME:EET
DTSTART:20231029T010000
END:STANDARD
BEGIN:DAYLIGHT
TZOFFSETFROM:+0200
TZOFFSETTO:+0300
TZNAME:EEST
DTSTART:20240331T010000
END:DAYLIGHT
BEGIN:STANDARD
TZOFFSETFROM:+0300
TZOFFSETTO:+0200
TZNAME:EET
DTSTART:20241027T010000
END:STANDARD
END:VTIMEZONE
BEGIN:VEVENT
DTSTART;TZID=Europe/Helsinki:20230614T190000
DTEND;TZID=Europe/Helsinki:20230614T200000
DTSTAMP:20260421T192434
CREATED:20230601T105545Z
LAST-MODIFIED:20230601T105545Z
UID:11666-1686769200-1686772800@dbhz.hr
SUMMARY:Panel-rasprava: VOJNI MUZEJI U HRVATSKOJ - PERSPEKTIVA I PROBLEMATIKA
DESCRIPTION:Panelisti:\nMatea Brstilo Rešetar\, Zmajica od Griča VI.\, ravnateljica Hrvatskog povijesnog muzeja\,\nMario Reljanović\, načelnik samostalne službe vojnog muzeja MORH-a i\nMatej Gabrilo\, ravnatelj Muzeja Domovinskog rata u Splitu. \nModerator:\ndr. sc. Marin Sabolović\, Zmaj od Česme II.\, Zmajski stol u Bjelovaru\, kustos galerije „Barutana 1991.“ i predsjednik Društva za očuvanje hrvatske vojne tradicije Bjelovar.
URL:https://dbhz.hr/najava/panel-rasprava-vojni-muzeji-u-hrvatskoj-perspektiva-i-problematika/
LOCATION:Kula nad Kamenitim vratima\, Družba „Braća Hrvatskoga Zmaja“\, Kamenita ulica 3\, ZAGREB\, 10000
CATEGORIES:Panel-rasprava
ATTACH;FMTTYPE=image/jpeg:https://dbhz.hr/wp-content/uploads/2023/06/14_06_2023.jpg
END:VEVENT
END:VCALENDAR