BEGIN:VCALENDAR
VERSION:2.0
PRODID:-//Družba &quot;Braća Hrvatskoga Zmaja&quot; - ECPv6.15.18//NONSGML v1.0//EN
CALSCALE:GREGORIAN
METHOD:PUBLISH
X-WR-CALNAME:Družba &quot;Braća Hrvatskoga Zmaja&quot;
X-ORIGINAL-URL:https://dbhz.hr
X-WR-CALDESC:Događaji za Družba &quot;Braća Hrvatskoga Zmaja&quot;
REFRESH-INTERVAL;VALUE=DURATION:PT1H
X-Robots-Tag:noindex
X-PUBLISHED-TTL:PT1H
BEGIN:VTIMEZONE
TZID:Europe/Helsinki
BEGIN:DAYLIGHT
TZOFFSETFROM:+0200
TZOFFSETTO:+0300
TZNAME:EEST
DTSTART:20230326T010000
END:DAYLIGHT
BEGIN:STANDARD
TZOFFSETFROM:+0300
TZOFFSETTO:+0200
TZNAME:EET
DTSTART:20231029T010000
END:STANDARD
BEGIN:DAYLIGHT
TZOFFSETFROM:+0200
TZOFFSETTO:+0300
TZNAME:EEST
DTSTART:20240331T010000
END:DAYLIGHT
BEGIN:STANDARD
TZOFFSETFROM:+0300
TZOFFSETTO:+0200
TZNAME:EET
DTSTART:20241027T010000
END:STANDARD
BEGIN:DAYLIGHT
TZOFFSETFROM:+0200
TZOFFSETTO:+0300
TZNAME:EEST
DTSTART:20250330T010000
END:DAYLIGHT
BEGIN:STANDARD
TZOFFSETFROM:+0300
TZOFFSETTO:+0200
TZNAME:EET
DTSTART:20251026T010000
END:STANDARD
END:VTIMEZONE
BEGIN:VEVENT
DTSTART;TZID=Europe/Helsinki:20240411T183000
DTEND;TZID=Europe/Helsinki:20240411T193000
DTSTAMP:20260422T034032
CREATED:20240328T080019Z
LAST-MODIFIED:20240328T074914Z
UID:13561-1712860200-1712863800@dbhz.hr
SUMMARY:Predavanje: „ALZHEIMEROVA BOLEST\, LIJEČENJE\, MEDICINSKA NJEGA I TJELOVJEŽBA“
DESCRIPTION:Sudionici tribine: \n\nDanica Trubelja Koren\, dr. med.\, specijalist neurologije\, uže specijalnosti iz neurodegenerativnih bolesti;\nAnita Meštrić\, mag. oec.\, bacc. med. techn.\n\nModeratorica:\nValentina Meštrić\, mag. art.\, Zmajica od Serafina \nOrganizator:\nDružba „Braća Hrvatskoga Zmaja“ – Zmajski stol u Varaždinu \nSuorganizator:\nGrad Novi Marof
URL:https://dbhz.hr/najava/predavanje-alzheimerova-bolest-lijecenje-medicinska-njega-i-tjelovjezba/
LOCATION:Kulturni centar „Ivan Rabuzin“\, Ulica Antuna Mihanovića 3\, Novi Marof\, 42220
CATEGORIES:Predavanja
ATTACH;FMTTYPE=image/jpeg:https://dbhz.hr/wp-content/uploads/2024/03/ZV_2024_04_Mestric_Alzheimer.jpg
END:VEVENT
END:VCALENDAR