BEGIN:VCALENDAR
VERSION:2.0
PRODID:-//Družba &quot;Braća Hrvatskoga Zmaja&quot; - ECPv6.15.18//NONSGML v1.0//EN
CALSCALE:GREGORIAN
METHOD:PUBLISH
X-WR-CALNAME:Družba &quot;Braća Hrvatskoga Zmaja&quot;
X-ORIGINAL-URL:https://dbhz.hr
X-WR-CALDESC:Događaji za Družba &quot;Braća Hrvatskoga Zmaja&quot;
REFRESH-INTERVAL;VALUE=DURATION:PT1H
X-Robots-Tag:noindex
X-PUBLISHED-TTL:PT1H
BEGIN:VTIMEZONE
TZID:Europe/Helsinki
BEGIN:DAYLIGHT
TZOFFSETFROM:+0200
TZOFFSETTO:+0300
TZNAME:EEST
DTSTART:20220327T010000
END:DAYLIGHT
BEGIN:STANDARD
TZOFFSETFROM:+0300
TZOFFSETTO:+0200
TZNAME:EET
DTSTART:20221030T010000
END:STANDARD
BEGIN:DAYLIGHT
TZOFFSETFROM:+0200
TZOFFSETTO:+0300
TZNAME:EEST
DTSTART:20230326T010000
END:DAYLIGHT
BEGIN:STANDARD
TZOFFSETFROM:+0300
TZOFFSETTO:+0200
TZNAME:EET
DTSTART:20231029T010000
END:STANDARD
BEGIN:DAYLIGHT
TZOFFSETFROM:+0200
TZOFFSETTO:+0300
TZNAME:EEST
DTSTART:20240331T010000
END:DAYLIGHT
BEGIN:STANDARD
TZOFFSETFROM:+0300
TZOFFSETTO:+0200
TZNAME:EET
DTSTART:20241027T010000
END:STANDARD
END:VTIMEZONE
BEGIN:VEVENT
DTSTART;TZID=Europe/Helsinki:20231002T190000
DTEND;TZID=Europe/Helsinki:20231002T203000
DTSTAMP:20260422T152956
CREATED:20230929T071951Z
LAST-MODIFIED:20230929T072645Z
UID:12361-1696273200-1696278600@dbhz.hr
SUMMARY:Predavanje: „BRANITELJI OZALJSKOG KRAJA“
DESCRIPTION:Predavač: Ivica Glöckner\, zmajski pripravnik. \n• Predavanje se održava u okviru redovnog mjesečnog sijela Zmajskog stola u Karlovcu\, na zmajskom Starom gradu Ozlju.\n• U okviru predavanja prikazat će se videozapis o braniteljima ozaljskog kraja\, otkrivanju spomen-ploče poginulim braniteljima\, otvaranju parka hrvatskih branitelja sa spomenikom hrvatskim braniteljima i otvaranju spomen-sobe hrvatskim braniteljima u Ozlju.\n• Ovo sijelo otvorenog je tipa – slobodno možete pozvati članove obitelji i prijatelje. \nOrganizator: Zmajski stol u Karlovcu.
URL:https://dbhz.hr/najava/predavanje-branitelji-ozaljskog-kraja/
LOCATION:Stari grad Ozalj\, Ul. Zrinskih i Frankopana 2\, OZALJ\, 47280
CATEGORIES:Predavanja
ATTACH;FMTTYPE=image/jpeg:https://dbhz.hr/wp-content/uploads/2023/09/Spomen-obiljezje-poginulim-hrvatskim-braniteljima-u-Ozlju.jpg
END:VEVENT
END:VCALENDAR