BEGIN:VCALENDAR
VERSION:2.0
PRODID:-//Družba &quot;Braća Hrvatskoga Zmaja&quot; - ECPv6.15.18//NONSGML v1.0//EN
CALSCALE:GREGORIAN
METHOD:PUBLISH
X-WR-CALNAME:Družba &quot;Braća Hrvatskoga Zmaja&quot;
X-ORIGINAL-URL:https://dbhz.hr
X-WR-CALDESC:Događaji za Družba &quot;Braća Hrvatskoga Zmaja&quot;
REFRESH-INTERVAL;VALUE=DURATION:PT1H
X-Robots-Tag:noindex
X-PUBLISHED-TTL:PT1H
BEGIN:VTIMEZONE
TZID:Europe/Paris
BEGIN:DAYLIGHT
TZOFFSETFROM:+0100
TZOFFSETTO:+0200
TZNAME:CEST
DTSTART:20220327T010000
END:DAYLIGHT
BEGIN:STANDARD
TZOFFSETFROM:+0200
TZOFFSETTO:+0100
TZNAME:CET
DTSTART:20221030T010000
END:STANDARD
BEGIN:DAYLIGHT
TZOFFSETFROM:+0100
TZOFFSETTO:+0200
TZNAME:CEST
DTSTART:20230326T010000
END:DAYLIGHT
BEGIN:STANDARD
TZOFFSETFROM:+0200
TZOFFSETTO:+0100
TZNAME:CET
DTSTART:20231029T010000
END:STANDARD
BEGIN:DAYLIGHT
TZOFFSETFROM:+0100
TZOFFSETTO:+0200
TZNAME:CEST
DTSTART:20240331T010000
END:DAYLIGHT
BEGIN:STANDARD
TZOFFSETFROM:+0200
TZOFFSETTO:+0100
TZNAME:CET
DTSTART:20241027T010000
END:STANDARD
END:VTIMEZONE
BEGIN:VEVENT
DTSTART;TZID=Europe/Paris:20230406T180000
DTEND;TZID=Europe/Paris:20230406T190000
DTSTAMP:20260422T064006
CREATED:20230331T070008Z
LAST-MODIFIED:20230330T122746Z
UID:11257-1680804000-1680807600@dbhz.hr
SUMMARY:Predavanje: EU ZELENA TRANZICIJA IZ PESRPEKTIVE HRVATSKE
DESCRIPTION:Predavačice:\ndr. sc. Marija Šiško Kuliš\, Zmajica od svetog Mihovila i dr. sc. Jadranka Polović\, Zmajica od Zvijezde mora. \nOrganizator:\nZmajski stol u Splitu. \nImage by rawpixel.com on Freepik.
URL:https://dbhz.hr/najava/predavanje-eu-zelena-tranzicija-iz-pesrpektive-hrvatske/
LOCATION:Gradska knjižnica Marka Marulića\, Slobode ulica 2\, SPLIT\, 21000
CATEGORIES:Predavanja
ATTACH;FMTTYPE=image/jpeg:https://dbhz.hr/wp-content/uploads/2023/03/featured_2023_04_06.jpg
END:VEVENT
END:VCALENDAR