BEGIN:VCALENDAR
VERSION:2.0
PRODID:-//Družba &quot;Braća Hrvatskoga Zmaja&quot; - ECPv6.15.18//NONSGML v1.0//EN
CALSCALE:GREGORIAN
METHOD:PUBLISH
X-WR-CALNAME:Družba &quot;Braća Hrvatskoga Zmaja&quot;
X-ORIGINAL-URL:https://dbhz.hr
X-WR-CALDESC:Događaji za Družba &quot;Braća Hrvatskoga Zmaja&quot;
REFRESH-INTERVAL;VALUE=DURATION:PT1H
X-Robots-Tag:noindex
X-PUBLISHED-TTL:PT1H
BEGIN:VTIMEZONE
TZID:Europe/Paris
BEGIN:DAYLIGHT
TZOFFSETFROM:+0100
TZOFFSETTO:+0200
TZNAME:CEST
DTSTART:20220327T010000
END:DAYLIGHT
BEGIN:STANDARD
TZOFFSETFROM:+0200
TZOFFSETTO:+0100
TZNAME:CET
DTSTART:20221030T010000
END:STANDARD
BEGIN:DAYLIGHT
TZOFFSETFROM:+0100
TZOFFSETTO:+0200
TZNAME:CEST
DTSTART:20230326T010000
END:DAYLIGHT
BEGIN:STANDARD
TZOFFSETFROM:+0200
TZOFFSETTO:+0100
TZNAME:CET
DTSTART:20231029T010000
END:STANDARD
BEGIN:DAYLIGHT
TZOFFSETFROM:+0100
TZOFFSETTO:+0200
TZNAME:CEST
DTSTART:20240331T010000
END:DAYLIGHT
BEGIN:STANDARD
TZOFFSETFROM:+0200
TZOFFSETTO:+0100
TZNAME:CET
DTSTART:20241027T010000
END:STANDARD
END:VTIMEZONE
BEGIN:VEVENT
DTSTART;TZID=Europe/Paris:20230201T190000
DTEND;TZID=Europe/Paris:20230201T200000
DTSTAMP:20260423T021641
CREATED:20230130T110032Z
LAST-MODIFIED:20230130T101647Z
UID:10826-1675278000-1675281600@dbhz.hr
SUMMARY:Predavanje: LINGUA LATINA VIVIT! POVRATAK LATINSKOG JEZIKA U ŽIVOT
DESCRIPTION:Predavači:\nPetar Ušković Croata\, mag. educ. philol. et lat. croat.\, Fakultet hrvatskih studija Sveučilišta u Zagrebu\, voditelj ljetne škole latinskoga jezika i kulture i\ndon Josip Krpić\, salezijanac\, inicijator ljetne škole latinskoga jezika i kulture. \nModerator:\nVladimira Šimić\, zmajska pripravnica
URL:https://dbhz.hr/najava/predavanje-lingua-latina-vivit-povratak-latinskog-jezika-u-zivot/
LOCATION:Kula nad Kamenitim vratima\, Družba „Braća Hrvatskoga Zmaja“\, Kamenita ulica 3\, ZAGREB\, 10000
CATEGORIES:Predavanja
ATTACH;FMTTYPE=image/jpeg:https://dbhz.hr/wp-content/uploads/2023/01/2023_02_01_predavanje.jpg
END:VEVENT
END:VCALENDAR