BEGIN:VCALENDAR
VERSION:2.0
PRODID:-//Družba &quot;Braća Hrvatskoga Zmaja&quot; - ECPv6.15.18//NONSGML v1.0//EN
CALSCALE:GREGORIAN
METHOD:PUBLISH
X-WR-CALNAME:Družba &quot;Braća Hrvatskoga Zmaja&quot;
X-ORIGINAL-URL:https://dbhz.hr
X-WR-CALDESC:Događaji za Družba &quot;Braća Hrvatskoga Zmaja&quot;
REFRESH-INTERVAL;VALUE=DURATION:PT1H
X-Robots-Tag:noindex
X-PUBLISHED-TTL:PT1H
BEGIN:VTIMEZONE
TZID:Europe/Helsinki
BEGIN:DAYLIGHT
TZOFFSETFROM:+0200
TZOFFSETTO:+0300
TZNAME:EEST
DTSTART:20220327T010000
END:DAYLIGHT
BEGIN:STANDARD
TZOFFSETFROM:+0300
TZOFFSETTO:+0200
TZNAME:EET
DTSTART:20221030T010000
END:STANDARD
BEGIN:DAYLIGHT
TZOFFSETFROM:+0200
TZOFFSETTO:+0300
TZNAME:EEST
DTSTART:20230326T010000
END:DAYLIGHT
BEGIN:STANDARD
TZOFFSETFROM:+0300
TZOFFSETTO:+0200
TZNAME:EET
DTSTART:20231029T010000
END:STANDARD
BEGIN:DAYLIGHT
TZOFFSETFROM:+0200
TZOFFSETTO:+0300
TZNAME:EEST
DTSTART:20240331T010000
END:DAYLIGHT
BEGIN:STANDARD
TZOFFSETFROM:+0300
TZOFFSETTO:+0200
TZNAME:EET
DTSTART:20241027T010000
END:STANDARD
END:VTIMEZONE
BEGIN:VEVENT
DTSTART;TZID=Europe/Helsinki:20230510T190000
DTEND;TZID=Europe/Helsinki:20230510T200000
DTSTAMP:20260421T174055
CREATED:20230428T075346Z
LAST-MODIFIED:20230428T075346Z
UID:11431-1683745200-1683748800@dbhz.hr
SUMMARY:Predavanje: SUSTAV ODLIKOVANJA REPUBLIKE HRVATSKE ZA VOJNE I RATNE ZASLUGE
DESCRIPTION:Predavači:\nDr. sc. Marin Sabolović\, zmajski pripravnik\,\nbrigadir mr. sc. Mirko Marijan i\ngeneral u miru Krešimir Kašpar.   \nSuorganizatori:\nDruštvo za očuvanje hrvatske vojne tradicije Bjelovar i\nDružba „Braća Hrvatskoga Zmaja“.
URL:https://dbhz.hr/najava/predavanje-sustav-odlikovanja-republike-hrvatske-za-vojne-i-ratne-zasluge/
LOCATION:Kula nad Kamenitim vratima\, Družba „Braća Hrvatskoga Zmaja“\, Kamenita ulica 3\, ZAGREB\, 10000
CATEGORIES:Predavanja
ATTACH;FMTTYPE=image/jpeg:https://dbhz.hr/wp-content/uploads/2023/04/10_05_2023.jpg
END:VEVENT
END:VCALENDAR