BEGIN:VCALENDAR
VERSION:2.0
PRODID:-//Družba &quot;Braća Hrvatskoga Zmaja&quot; - ECPv6.15.18//NONSGML v1.0//EN
CALSCALE:GREGORIAN
METHOD:PUBLISH
X-WR-CALNAME:Družba &quot;Braća Hrvatskoga Zmaja&quot;
X-ORIGINAL-URL:https://dbhz.hr
X-WR-CALDESC:Događaji za Družba &quot;Braća Hrvatskoga Zmaja&quot;
REFRESH-INTERVAL;VALUE=DURATION:PT1H
X-Robots-Tag:noindex
X-PUBLISHED-TTL:PT1H
BEGIN:VTIMEZONE
TZID:Europe/Helsinki
BEGIN:DAYLIGHT
TZOFFSETFROM:+0200
TZOFFSETTO:+0300
TZNAME:EEST
DTSTART:20220327T010000
END:DAYLIGHT
BEGIN:STANDARD
TZOFFSETFROM:+0300
TZOFFSETTO:+0200
TZNAME:EET
DTSTART:20221030T010000
END:STANDARD
BEGIN:DAYLIGHT
TZOFFSETFROM:+0200
TZOFFSETTO:+0300
TZNAME:EEST
DTSTART:20230326T010000
END:DAYLIGHT
BEGIN:STANDARD
TZOFFSETFROM:+0300
TZOFFSETTO:+0200
TZNAME:EET
DTSTART:20231029T010000
END:STANDARD
BEGIN:DAYLIGHT
TZOFFSETFROM:+0200
TZOFFSETTO:+0300
TZNAME:EEST
DTSTART:20240331T010000
END:DAYLIGHT
BEGIN:STANDARD
TZOFFSETFROM:+0300
TZOFFSETTO:+0200
TZNAME:EET
DTSTART:20241027T010000
END:STANDARD
END:VTIMEZONE
BEGIN:VEVENT
DTSTART;TZID=Europe/Helsinki:20230613T190000
DTEND;TZID=Europe/Helsinki:20230613T200000
DTSTAMP:20260421T205745
CREATED:20230601T105146Z
LAST-MODIFIED:20230601T112153Z
UID:11658-1686682800-1686686400@dbhz.hr
SUMMARY:Predavanje: SVJETSKI RARITETNO BOGATSTVO RELIKVIJA U CRKVI SV. BLAŽA - NOVA KRV NAŠEM I SVJETSKOM TURIZMU
DESCRIPTION:prezentirano kroz knjigu SANCTUARIUM ADIGNANI. \nPredavač:\nmons. Marijan Jelenić\, vodnjanski župnik u. m. \nOrganizator:\nZmajski stol u Varaždinu.
URL:https://dbhz.hr/najava/predavanje-svjetski-raritetno-bogatstvo-relikvija-u-crkvi-sv-blaza-nova-krv-nasem-i-svjetskom-turizmu/
LOCATION:Gradska knjižnica i čitaonica „Metel Ožegović“\, Franjevački trg 4\, Varaždin\, 42000
CATEGORIES:Predavanja
ATTACH;FMTTYPE=image/jpeg:https://dbhz.hr/wp-content/uploads/2023/06/13_06_2023.jpg
END:VEVENT
END:VCALENDAR