BEGIN:VCALENDAR
VERSION:2.0
PRODID:-//Družba &quot;Braća Hrvatskoga Zmaja&quot; - ECPv6.15.18//NONSGML v1.0//EN
CALSCALE:GREGORIAN
METHOD:PUBLISH
X-WR-CALNAME:Družba &quot;Braća Hrvatskoga Zmaja&quot;
X-ORIGINAL-URL:https://dbhz.hr
X-WR-CALDESC:Događaji za Družba &quot;Braća Hrvatskoga Zmaja&quot;
REFRESH-INTERVAL;VALUE=DURATION:PT1H
X-Robots-Tag:noindex
X-PUBLISHED-TTL:PT1H
BEGIN:VTIMEZONE
TZID:Europe/Helsinki
BEGIN:DAYLIGHT
TZOFFSETFROM:+0200
TZOFFSETTO:+0300
TZNAME:EEST
DTSTART:20220327T010000
END:DAYLIGHT
BEGIN:STANDARD
TZOFFSETFROM:+0300
TZOFFSETTO:+0200
TZNAME:EET
DTSTART:20221030T010000
END:STANDARD
BEGIN:DAYLIGHT
TZOFFSETFROM:+0200
TZOFFSETTO:+0300
TZNAME:EEST
DTSTART:20230326T010000
END:DAYLIGHT
BEGIN:STANDARD
TZOFFSETFROM:+0300
TZOFFSETTO:+0200
TZNAME:EET
DTSTART:20231029T010000
END:STANDARD
BEGIN:DAYLIGHT
TZOFFSETFROM:+0200
TZOFFSETTO:+0300
TZNAME:EEST
DTSTART:20240331T010000
END:DAYLIGHT
BEGIN:STANDARD
TZOFFSETFROM:+0300
TZOFFSETTO:+0200
TZNAME:EET
DTSTART:20241027T010000
END:STANDARD
END:VTIMEZONE
BEGIN:VEVENT
DTSTART;TZID=Europe/Helsinki:20230621T190000
DTEND;TZID=Europe/Helsinki:20230621T200000
DTSTAMP:20260421T205610
CREATED:20230601T100017Z
LAST-MODIFIED:20230601T110123Z
UID:11669-1687374000-1687377600@dbhz.hr
SUMMARY:Predavanje: VITEZOVI TEMPLARI I TEMPLARSKA BAŠTINA NA PODRUČJU HRVATSKE
DESCRIPTION:Predavači:\ndr. sc. Marija Karbić\, Hrvatski institut za povijest\,\ndr. sc. Damir Karbić\, Odsjek za povijesne znanosti HAZU i\nLovro Tomašinec\, Hrvatski viteški red templara. \nModerator:\ndr. sc. Božo Skoko\, Zmaj od Hercegovine III.
URL:https://dbhz.hr/najava/predavanje-vitezovi-templari-i-templarska-bastina-na-podrucju-hrvatske/
LOCATION:Kula nad Kamenitim vratima\, Družba „Braća Hrvatskoga Zmaja“\, Kamenita ulica 3\, ZAGREB\, 10000
CATEGORIES:Predavanja
ATTACH;FMTTYPE=image/jpeg:https://dbhz.hr/wp-content/uploads/2023/06/21_06_2023.jpg
END:VEVENT
END:VCALENDAR