BEGIN:VCALENDAR
VERSION:2.0
PRODID:-//Družba &quot;Braća Hrvatskoga Zmaja&quot; - ECPv6.15.18//NONSGML v1.0//EN
CALSCALE:GREGORIAN
METHOD:PUBLISH
X-WR-CALNAME:Družba &quot;Braća Hrvatskoga Zmaja&quot;
X-ORIGINAL-URL:https://dbhz.hr
X-WR-CALDESC:Događaji za Družba &quot;Braća Hrvatskoga Zmaja&quot;
REFRESH-INTERVAL;VALUE=DURATION:PT1H
X-Robots-Tag:noindex
X-PUBLISHED-TTL:PT1H
BEGIN:VTIMEZONE
TZID:Europe/Paris
BEGIN:DAYLIGHT
TZOFFSETFROM:+0100
TZOFFSETTO:+0200
TZNAME:CEST
DTSTART:20220327T010000
END:DAYLIGHT
BEGIN:STANDARD
TZOFFSETFROM:+0200
TZOFFSETTO:+0100
TZNAME:CET
DTSTART:20221030T010000
END:STANDARD
BEGIN:DAYLIGHT
TZOFFSETFROM:+0100
TZOFFSETTO:+0200
TZNAME:CEST
DTSTART:20230326T010000
END:DAYLIGHT
BEGIN:STANDARD
TZOFFSETFROM:+0200
TZOFFSETTO:+0100
TZNAME:CET
DTSTART:20231029T010000
END:STANDARD
BEGIN:DAYLIGHT
TZOFFSETFROM:+0100
TZOFFSETTO:+0200
TZNAME:CEST
DTSTART:20240331T010000
END:DAYLIGHT
BEGIN:STANDARD
TZOFFSETFROM:+0200
TZOFFSETTO:+0100
TZNAME:CET
DTSTART:20241027T010000
END:STANDARD
END:VTIMEZONE
BEGIN:VEVENT
DTSTART;TZID=Europe/Paris:20230118T190000
DTEND;TZID=Europe/Paris:20230118T200000
DTSTAMP:20260423T053811
CREATED:20221229T070018Z
LAST-MODIFIED:20221229T072524Z
UID:10534-1674068400-1674072000@dbhz.hr
SUMMARY:Predavanje: MILAN SUNKO - (GOTOVO) ZABORAVLJENI HERALDIČKI UMJETNIK SVJETSKOG GLASA KOJEG SU ŠTOVALI STARI ZMAJEVCI
DESCRIPTION:Predavač:\npk dr. sc. Željko Heimer\, Zmaj od Mesničkih vrata\, Meštar obredničar Družbe \nOrganizator:\nZmajski heraldički ured
URL:https://dbhz.hr/najava/predavanjemilan-sunko-gotovo-zaboravljeni-heraldicki-umjetnik-svjetskog-glasa-kojeg-su-stovali-stari-zmajevci/
LOCATION:Kula nad Kamenitim vratima\, Družba „Braća Hrvatskoga Zmaja“\, Kamenita ulica 3\, ZAGREB\, 10000
CATEGORIES:Predavanja
ATTACH;FMTTYPE=image/jpeg:https://dbhz.hr/wp-content/uploads/2022/12/kalendar_2023_01_18.jpg
END:VEVENT
END:VCALENDAR