BEGIN:VCALENDAR
VERSION:2.0
PRODID:-//Družba &quot;Braća Hrvatskoga Zmaja&quot; - ECPv6.15.18//NONSGML v1.0//EN
CALSCALE:GREGORIAN
METHOD:PUBLISH
X-WR-CALNAME:Družba &quot;Braća Hrvatskoga Zmaja&quot;
X-ORIGINAL-URL:https://dbhz.hr
X-WR-CALDESC:Događaji za Družba &quot;Braća Hrvatskoga Zmaja&quot;
REFRESH-INTERVAL;VALUE=DURATION:PT1H
X-Robots-Tag:noindex
X-PUBLISHED-TTL:PT1H
BEGIN:VTIMEZONE
TZID:Europe/Helsinki
BEGIN:DAYLIGHT
TZOFFSETFROM:+0200
TZOFFSETTO:+0300
TZNAME:EEST
DTSTART:20220327T010000
END:DAYLIGHT
BEGIN:STANDARD
TZOFFSETFROM:+0300
TZOFFSETTO:+0200
TZNAME:EET
DTSTART:20221030T010000
END:STANDARD
BEGIN:DAYLIGHT
TZOFFSETFROM:+0200
TZOFFSETTO:+0300
TZNAME:EEST
DTSTART:20230326T010000
END:DAYLIGHT
BEGIN:STANDARD
TZOFFSETFROM:+0300
TZOFFSETTO:+0200
TZNAME:EET
DTSTART:20231029T010000
END:STANDARD
BEGIN:DAYLIGHT
TZOFFSETFROM:+0200
TZOFFSETTO:+0300
TZNAME:EEST
DTSTART:20240331T010000
END:DAYLIGHT
BEGIN:STANDARD
TZOFFSETFROM:+0300
TZOFFSETTO:+0200
TZNAME:EET
DTSTART:20241027T010000
END:STANDARD
END:VTIMEZONE
BEGIN:VEVENT
DTSTART;TZID=Europe/Helsinki:20230630T200000
DTEND;TZID=Europe/Helsinki:20230630T213000
DTSTAMP:20260422T020624
CREATED:20230601T111657Z
LAST-MODIFIED:20230628T141235Z
UID:11687-1688155200-1688160600@dbhz.hr
SUMMARY:Predstava kazališta „MORUZGVA“: VLA VLA VLAJLAND CABARET
DESCRIPTION:u izvedbi ravnateljice kazališta Ecije Ojdanić. \nUlaz za sve posjetitelje je besplatan. \nOrganizator:\nPučko otvorene učilište Katarina Zrinska – Ozalj. \nPokrovitelj:\nDružba „Braća Hrvatskoga Zmaja“.
URL:https://dbhz.hr/najava/predstava-kazalista-moruzgva-vla-vla-vlajland-cabaret/
LOCATION:Stari grad Ozalj\, Ul. Zrinskih i Frankopana 2\, OZALJ\, 47280
CATEGORIES:Predstave
ATTACH;FMTTYPE=image/jpeg:https://dbhz.hr/wp-content/uploads/2023/06/30_06_2023.jpg
END:VEVENT
END:VCALENDAR