BEGIN:VCALENDAR
VERSION:2.0
PRODID:-//Družba &quot;Braća Hrvatskoga Zmaja&quot; - ECPv6.15.18//NONSGML v1.0//EN
CALSCALE:GREGORIAN
METHOD:PUBLISH
X-WR-CALNAME:Družba &quot;Braća Hrvatskoga Zmaja&quot;
X-ORIGINAL-URL:https://dbhz.hr
X-WR-CALDESC:Događaji za Družba &quot;Braća Hrvatskoga Zmaja&quot;
REFRESH-INTERVAL;VALUE=DURATION:PT1H
X-Robots-Tag:noindex
X-PUBLISHED-TTL:PT1H
BEGIN:VTIMEZONE
TZID:Europe/Helsinki
BEGIN:DAYLIGHT
TZOFFSETFROM:+0200
TZOFFSETTO:+0300
TZNAME:EEST
DTSTART:20230326T010000
END:DAYLIGHT
BEGIN:STANDARD
TZOFFSETFROM:+0300
TZOFFSETTO:+0200
TZNAME:EET
DTSTART:20231029T010000
END:STANDARD
BEGIN:DAYLIGHT
TZOFFSETFROM:+0200
TZOFFSETTO:+0300
TZNAME:EEST
DTSTART:20240331T010000
END:DAYLIGHT
BEGIN:STANDARD
TZOFFSETFROM:+0300
TZOFFSETTO:+0200
TZNAME:EET
DTSTART:20241027T010000
END:STANDARD
BEGIN:DAYLIGHT
TZOFFSETFROM:+0200
TZOFFSETTO:+0300
TZNAME:EEST
DTSTART:20250330T010000
END:DAYLIGHT
BEGIN:STANDARD
TZOFFSETFROM:+0300
TZOFFSETTO:+0200
TZNAME:EET
DTSTART:20251026T010000
END:STANDARD
END:VTIMEZONE
BEGIN:VEVENT
DTSTART;TZID=Europe/Helsinki:20240214T190000
DTEND;TZID=Europe/Helsinki:20240214T200000
DTSTAMP:20260422T102527
CREATED:20240201T120054Z
LAST-MODIFIED:20240201T120023Z
UID:13137-1707937200-1707940800@dbhz.hr
SUMMARY:Predstavljanje: DVOJEZIČNOG HRVATSKO-ALBANSKOG ZBORNIKA RADOVA SA SIMPOZIJA „MILAN ŠUFFLAY - HRVATSKI ALBANOLOG“\, OBJAVLJEN U NAKLADI HRVATSKOG NACIONALNOG VIJEĆA CRNE GORE
DESCRIPTION:Uvodno slovo: \n\nZvonimir Deković\, Zmaj od Lastve\, Hrvatsko nacionalno vijeće Crne Gore\npredstavnik Nacionalnog vijeća Albanaca Crne Gore\n\nO Zborniku će govoriti: \n\ndr. sc. Vladimir Lončarević\, Zmaj od Svetog Mihaela\ndr. sc. Stipe Kljaić\, povjesničar\, Hrvatski institut za povijest\n\nModerator:\nsc. Mario Jareb\, Zmaj Jurjevgradski od Tribunja\, pročelnik Povijesne sekcije \nSuorganizatori:\nPovijesna sekcije Družbe\, Hrvatsko nacionalno vijeće Crne Gore\, Nacionalno vijeće Albanaca Crne Gore
URL:https://dbhz.hr/najava/predstavljanje-dvojezicnog-hrvatsko-albanskog-zbornika-radova-sa-simpozija-milan-sufflay-hrvatski-albanolog-objavljen-u-nakladi-hrvatskog-nacionalnog-vijeca-crne-gore/
LOCATION:Kula nad Kamenitim vratima\, Družba „Braća Hrvatskoga Zmaja“\, Kamenita ulica 3\, ZAGREB\, 10000
CATEGORIES:Predstavljanja knjiga, publikacija, osoba...
ATTACH;FMTTYPE=image/jpeg:https://dbhz.hr/wp-content/uploads/2024/02/ZV_2024_02_Sufflay.jpg
END:VEVENT
END:VCALENDAR