BEGIN:VCALENDAR
VERSION:2.0
PRODID:-//Družba &quot;Braća Hrvatskoga Zmaja&quot; - ECPv6.15.18//NONSGML v1.0//EN
CALSCALE:GREGORIAN
METHOD:PUBLISH
X-WR-CALNAME:Družba &quot;Braća Hrvatskoga Zmaja&quot;
X-ORIGINAL-URL:https://dbhz.hr
X-WR-CALDESC:Događaji za Družba &quot;Braća Hrvatskoga Zmaja&quot;
REFRESH-INTERVAL;VALUE=DURATION:PT1H
X-Robots-Tag:noindex
X-PUBLISHED-TTL:PT1H
BEGIN:VTIMEZONE
TZID:Europe/Helsinki
BEGIN:DAYLIGHT
TZOFFSETFROM:+0200
TZOFFSETTO:+0300
TZNAME:EEST
DTSTART:20240331T010000
END:DAYLIGHT
BEGIN:STANDARD
TZOFFSETFROM:+0300
TZOFFSETTO:+0200
TZNAME:EET
DTSTART:20241027T010000
END:STANDARD
BEGIN:DAYLIGHT
TZOFFSETFROM:+0200
TZOFFSETTO:+0300
TZNAME:EEST
DTSTART:20250330T010000
END:DAYLIGHT
BEGIN:STANDARD
TZOFFSETFROM:+0300
TZOFFSETTO:+0200
TZNAME:EET
DTSTART:20251026T010000
END:STANDARD
BEGIN:DAYLIGHT
TZOFFSETFROM:+0200
TZOFFSETTO:+0300
TZNAME:EEST
DTSTART:20260329T010000
END:DAYLIGHT
BEGIN:STANDARD
TZOFFSETFROM:+0300
TZOFFSETTO:+0200
TZNAME:EET
DTSTART:20261025T010000
END:STANDARD
END:VTIMEZONE
BEGIN:VEVENT
DTSTART;TZID=Europe/Helsinki:20250523T190000
DTEND;TZID=Europe/Helsinki:20250523T200000
DTSTAMP:20260421T133443
CREATED:20250501T094053Z
LAST-MODIFIED:20250501T094053Z
UID:17051-1748026800-1748030400@dbhz.hr
SUMMARY:PREDSTAVLJANJE IZDANJA POŠTANSKE MARKE REPUBLIKE HRVATSKE „1100. OBLJETNICA HRVATSKOGA KRALJEVSTVA“
DESCRIPTION:– u prigodi 1100. obljetnice Hrvatskoga Kraljevstva (https://1100.dbhz.hr/ – projekt broj 14) \nOpis:\nHrvatska pošta d.d. 23. svibnja 2025. godine objavljuje prigodnu poštansku marku „1100. obljetnica Hrvatskoga Kraljevstva“ na inicijativu Družbe „Braća Hrvatskoga Zmaja“. Istodobno će tzv. „marku blizanac“ izdati i Hrvatska pošta d.o.o. Mostar\, a u zagrebačkoj pošti 10114 Zagreb (Jurišićeva 5) bit će u uporabi taj dan poseban prigodni žig\, tim istim povodom. U Kuli nad Kamenitim vratima upriličit ćemo svečano predstavljanje ovih izdanja\, a ujedno će se predstaviti i dragovoljne doplatne marke Družbe izrađene ove godinu u svrhu potpore djelovanja Družbe u povodu velike obljetnice Hrvatskoga Kraljevstva\, 120. obljetnice osnivanja Družbe 16. studenoga 1905. godine i 35. obljetnice obnove Družbe 23. lipnja 1990. godine. Na ove nadnevke Družba će predložiti uporabu još dva prigodna žiga\, kojima će se filatelistički obilježiti i preostale dvije obljetnice. Družba je izradila i posebne prigodne omotnice i dopisnicu\, koje će se lijepo kombinirati sa svim navedenim izdanjima. \nU povodu ovih izdanja poštanskih maraka i značajnih obljetnica\, u Kuli nad Kamenitim vratima postavit će se i prigodna filatelistička izložba „Zmajevci u filateliji“ koja će predstaviti dvjestotinjak maraka i poštanskih cjelina koje prikazuju portrete članova Družbe\, njihove umjetničke radove\, članske institucije ili institucije koje je Družba osnovala odnosno potakla\, Družbine simbole i značajne projekte. Izložba obuhvaća više od 170 maraka Republike Hrvatske te Bosne i Hercegovine (dvaju poštanskih uprava) te četiri ranije poštanske uprave koje su izdavale marke u hrvatskim zemljama\, a prikazane su i marke stranih poštanskih uprava s Družbinom simbolikom – uglavnom vezane za osnivača „pradružbe“ kralja Žigmunda Luksemburškog. Dakako\, prikazat će se i aktualna izdanja doplatnih maraka Družbe i prigodnih maraka Hrvatske pošte. Izložbu je pripremio Meštar obredničar pukovnik doc. dr. sc. Željko Heimer\, Zmaj od Mesničkih vrata. Izložba će biti postavljena u Kuli nad Kamenitim vratima od 16. svibnja do 1. srpnja 2025. godine. \nOrganizatori:\nMeštarski zbor Družbe „Braća Hrvatskoga Zmaja“ i Hrvatska pošta
URL:https://dbhz.hr/najava/predstavljanje-izdanja-postanske-marke-republike-hrvatske-1100-obljetnica-hrvatskoga-kraljevstva/
LOCATION:Kula nad Kamenitim vratima\, Družba „Braća Hrvatskoga Zmaja“\, Kamenita ulica 3\, ZAGREB\, 10000
CATEGORIES:Obilježavanje 1100 godina Hrvatskoga Kraljevstva,Predstavljanja knjiga, publikacija, osoba...
ATTACH;FMTTYPE=image/png:https://dbhz.hr/wp-content/uploads/2025/05/ZV_2025_05_najava_09_Postanska_marka.png
END:VEVENT
END:VCALENDAR