BEGIN:VCALENDAR
VERSION:2.0
PRODID:-//Družba &quot;Braća Hrvatskoga Zmaja&quot; - ECPv6.15.18//NONSGML v1.0//EN
CALSCALE:GREGORIAN
METHOD:PUBLISH
X-WR-CALNAME:Družba &quot;Braća Hrvatskoga Zmaja&quot;
X-ORIGINAL-URL:https://dbhz.hr
X-WR-CALDESC:Događaji za Družba &quot;Braća Hrvatskoga Zmaja&quot;
REFRESH-INTERVAL;VALUE=DURATION:PT1H
X-Robots-Tag:noindex
X-PUBLISHED-TTL:PT1H
BEGIN:VTIMEZONE
TZID:Europe/Paris
BEGIN:DAYLIGHT
TZOFFSETFROM:+0100
TZOFFSETTO:+0200
TZNAME:CEST
DTSTART:20220327T010000
END:DAYLIGHT
BEGIN:STANDARD
TZOFFSETFROM:+0200
TZOFFSETTO:+0100
TZNAME:CET
DTSTART:20221030T010000
END:STANDARD
BEGIN:DAYLIGHT
TZOFFSETFROM:+0100
TZOFFSETTO:+0200
TZNAME:CEST
DTSTART:20230326T010000
END:DAYLIGHT
BEGIN:STANDARD
TZOFFSETFROM:+0200
TZOFFSETTO:+0100
TZNAME:CET
DTSTART:20231029T010000
END:STANDARD
BEGIN:DAYLIGHT
TZOFFSETFROM:+0100
TZOFFSETTO:+0200
TZNAME:CEST
DTSTART:20240331T010000
END:DAYLIGHT
BEGIN:STANDARD
TZOFFSETFROM:+0200
TZOFFSETTO:+0100
TZNAME:CET
DTSTART:20241027T010000
END:STANDARD
END:VTIMEZONE
BEGIN:VEVENT
DTSTART;TZID=Europe/Paris:20230323T193000
DTEND;TZID=Europe/Paris:20230323T203000
DTSTAMP:20260422T114019
CREATED:20230315T093359Z
LAST-MODIFIED:20230315T093836Z
UID:11224-1679599800-1679603400@dbhz.hr
SUMMARY:Predstavljanje knige: PAKAO SE ZOVE JAZOVKA
DESCRIPTION:Predstavljači:\nMladen Kuka\, Zmaj Abesinski II.\, autor i\nVlč. Ivan Vučak\, upravitelj župa u Krašiću i Oštrcu. \nOrganizator:\nZmajski stol u Sisku.
URL:https://dbhz.hr/najava/predstavljanje-knige-pakao-se-zove-jazovka/
LOCATION:Veliki Kaptol\, Trg bana Josipa Jelačića 9\, SISAK\, 44000\, Croatia (Local Name: Hrvatska)
CATEGORIES:Predstavljanja knjiga, publikacija, osoba...
ATTACH;FMTTYPE=image/jpeg:https://dbhz.hr/wp-content/uploads/2023/03/event_2023_03_23_jazovka.jpg
END:VEVENT
END:VCALENDAR