BEGIN:VCALENDAR
VERSION:2.0
PRODID:-//Družba &quot;Braća Hrvatskoga Zmaja&quot; - ECPv6.15.18//NONSGML v1.0//EN
CALSCALE:GREGORIAN
METHOD:PUBLISH
X-WR-CALNAME:Družba &quot;Braća Hrvatskoga Zmaja&quot;
X-ORIGINAL-URL:https://dbhz.hr
X-WR-CALDESC:Događaji za Družba &quot;Braća Hrvatskoga Zmaja&quot;
REFRESH-INTERVAL;VALUE=DURATION:PT1H
X-Robots-Tag:noindex
X-PUBLISHED-TTL:PT1H
BEGIN:VTIMEZONE
TZID:Europe/Helsinki
BEGIN:DAYLIGHT
TZOFFSETFROM:+0200
TZOFFSETTO:+0300
TZNAME:EEST
DTSTART:20230326T010000
END:DAYLIGHT
BEGIN:STANDARD
TZOFFSETFROM:+0300
TZOFFSETTO:+0200
TZNAME:EET
DTSTART:20231029T010000
END:STANDARD
BEGIN:DAYLIGHT
TZOFFSETFROM:+0200
TZOFFSETTO:+0300
TZNAME:EEST
DTSTART:20240331T010000
END:DAYLIGHT
BEGIN:STANDARD
TZOFFSETFROM:+0300
TZOFFSETTO:+0200
TZNAME:EET
DTSTART:20241027T010000
END:STANDARD
BEGIN:DAYLIGHT
TZOFFSETFROM:+0200
TZOFFSETTO:+0300
TZNAME:EEST
DTSTART:20250330T010000
END:DAYLIGHT
BEGIN:STANDARD
TZOFFSETFROM:+0300
TZOFFSETTO:+0200
TZNAME:EET
DTSTART:20251026T010000
END:STANDARD
END:VTIMEZONE
BEGIN:VEVENT
DTSTART;TZID=Europe/Helsinki:20240925T190000
DTEND;TZID=Europe/Helsinki:20240925T200000
DTSTAMP:20260422T150434
CREATED:20240827T090930Z
LAST-MODIFIED:20240827T090930Z
UID:15175-1727290800-1727294400@dbhz.hr
SUMMARY:Predstavljanje knjige: „KARDINAL STEPINAC\, NAJSVETIJI LIK U HRVATA“ (...prema riječima Svetoga Ivana Pavla II.)
DESCRIPTION:Autorica knjige:\nmr. sc. Carmen Vrljičak Verlichak\, magistra književnosti i sveučilišna profesorica hrvatskoga podrijetla iz Argentine\, akademkinja u dva razreda u Argentini (komunikacija i povijest)\n\nKnjigu će predstaviti:\n• književnik Đuro Vidmarović\, bivši predsjednik Društva hrvatskih književnika\n• Dragica Vukelić\, inženjer prehrambene tehnologije\, Sveučilište u Čileu\n• Neda Rosandić Šarić\, prva veleposlanica RH u Argentini \nGlazbeni program:\nBranimir Gudelj\, gitara \nIzdavač:\nKrivodol Press \nOpis knjige:\nOvo je prva knjiga o kardinalu Stepincu napisana na španjolskom jeziku\, a sada prevedena i na hrvatski jezik. Knjiga opisuje život i djela kardinala Stepinca\, a sadrži i podatke koji do sada nigdje nisu objavljeni\, a koje je pružio član obitelj gosp. Boris Stepinac. \nO autorici:\nCarmen Vrljičak Verlichak rođena je u Madridu\, a školovala se u Buenos Airesu. Diplomirala je književnost i klasiks\, a magistrirala s temom „Čarobni brijeg“ Thomasa Manna. Bila je profesor latinskog jezika na Papinsku sveučilištu u Buenos Airesu\, također profesor španjolske srednjovjekovne književnosti\, kao i lingvist. Napisala je 20-ak knjiga od kojih su neke prevedene na hrvatski jezik: „To je bilo ovako“ (preveo akademik Tonko Maroević)\, „Hrvati u Argentini“ i „Kardinal Stepinac“. Knjiga „Maria Josefa Ezcurra“ bila je u popisu bestselera. Kao novinarka pisala je i piše za više medija u Argentini.
URL:https://dbhz.hr/najava/predstavljanje-knjige-kardinal-stepinac-najsvetiji-lik-u-hrvata-prema-rijecima-svetoga-ivana-pavla-ii/
LOCATION:Kula nad Kamenitim vratima\, Družba „Braća Hrvatskoga Zmaja“\, Kamenita ulica 3\, ZAGREB\, 10000
CATEGORIES:Predstavljanja knjiga, publikacija, osoba...
ATTACH;FMTTYPE=image/jpeg:https://dbhz.hr/wp-content/uploads/2024/08/ZV_2024_09_Stepinac.jpg
END:VEVENT
END:VCALENDAR