BEGIN:VCALENDAR
VERSION:2.0
PRODID:-//Družba &quot;Braća Hrvatskoga Zmaja&quot; - ECPv6.15.18//NONSGML v1.0//EN
CALSCALE:GREGORIAN
METHOD:PUBLISH
X-WR-CALNAME:Družba &quot;Braća Hrvatskoga Zmaja&quot;
X-ORIGINAL-URL:https://dbhz.hr
X-WR-CALDESC:Događaji za Družba &quot;Braća Hrvatskoga Zmaja&quot;
REFRESH-INTERVAL;VALUE=DURATION:PT1H
X-Robots-Tag:noindex
X-PUBLISHED-TTL:PT1H
BEGIN:VTIMEZONE
TZID:Europe/Paris
BEGIN:DAYLIGHT
TZOFFSETFROM:+0100
TZOFFSETTO:+0200
TZNAME:CEST
DTSTART:20210328T010000
END:DAYLIGHT
BEGIN:STANDARD
TZOFFSETFROM:+0200
TZOFFSETTO:+0100
TZNAME:CET
DTSTART:20211031T010000
END:STANDARD
BEGIN:DAYLIGHT
TZOFFSETFROM:+0100
TZOFFSETTO:+0200
TZNAME:CEST
DTSTART:20220327T010000
END:DAYLIGHT
BEGIN:STANDARD
TZOFFSETFROM:+0200
TZOFFSETTO:+0100
TZNAME:CET
DTSTART:20221030T010000
END:STANDARD
BEGIN:DAYLIGHT
TZOFFSETFROM:+0100
TZOFFSETTO:+0200
TZNAME:CEST
DTSTART:20230326T010000
END:DAYLIGHT
BEGIN:STANDARD
TZOFFSETFROM:+0200
TZOFFSETTO:+0100
TZNAME:CET
DTSTART:20231029T010000
END:STANDARD
END:VTIMEZONE
BEGIN:VEVENT
DTSTART;TZID=Europe/Paris:20221107T180000
DTEND;TZID=Europe/Paris:20221107T190000
DTSTAMP:20260423T231245
CREATED:20221027T070001Z
LAST-MODIFIED:20221024T104545Z
UID:10230-1667844000-1667847600@dbhz.hr
SUMMARY:Predstavljanje knjige: ZAGREBAČKA BISKUPIJA I OSMANSKA SLAVONIJA U 17. STOLJEĆU. ULOGA KATOLIČKE CRKVE U TERITORIJALNOJ INTEGRACIJI KONTINENTALNE HRVATSKE
DESCRIPTION:Autor knjige:\ndr. sc. Antal Molnar\, ravnatelj Instituta za povijest pri Centru za humanističke studije Mađarske akademije znanosti; papinski savjetnik za povijesna pitanja; čelnik Papinskog odbora za povijesne znanosti. \nOrganizator:\nHrvatski institut za povijest \nSuorganizator i pokrovitelj:\nDružba „Braća Hrvatskoga Zmaja“
URL:https://dbhz.hr/najava/predstavljanje-knjige-zagrebacka-biskupija-i-osmanska-slavonija-u-17-stoljecu-uloga-katolicke-crkve-u-teritorijalnoj-integraciji-kontinentalne-hrvatske/
LOCATION:Kula nad Kamenitim vratima\, Družba „Braća Hrvatskoga Zmaja“\, Kamenita ulica 3\, ZAGREB\, 10000
CATEGORIES:Predstavljanja knjiga, publikacija, osoba...
ATTACH;FMTTYPE=image/jpeg:https://dbhz.hr/wp-content/uploads/2022/10/zagrebacka_biskupija.jpg
END:VEVENT
END:VCALENDAR