BEGIN:VCALENDAR
VERSION:2.0
PRODID:-//Družba &quot;Braća Hrvatskoga Zmaja&quot; - ECPv6.15.18//NONSGML v1.0//EN
CALSCALE:GREGORIAN
METHOD:PUBLISH
X-WR-CALNAME:Družba &quot;Braća Hrvatskoga Zmaja&quot;
X-ORIGINAL-URL:https://dbhz.hr
X-WR-CALDESC:Događaji za Družba &quot;Braća Hrvatskoga Zmaja&quot;
REFRESH-INTERVAL;VALUE=DURATION:PT1H
X-Robots-Tag:noindex
X-PUBLISHED-TTL:PT1H
BEGIN:VTIMEZONE
TZID:Europe/Paris
BEGIN:DAYLIGHT
TZOFFSETFROM:+0100
TZOFFSETTO:+0200
TZNAME:CEST
DTSTART:20220327T010000
END:DAYLIGHT
BEGIN:STANDARD
TZOFFSETFROM:+0200
TZOFFSETTO:+0100
TZNAME:CET
DTSTART:20221030T010000
END:STANDARD
BEGIN:DAYLIGHT
TZOFFSETFROM:+0100
TZOFFSETTO:+0200
TZNAME:CEST
DTSTART:20230326T010000
END:DAYLIGHT
BEGIN:STANDARD
TZOFFSETFROM:+0200
TZOFFSETTO:+0100
TZNAME:CET
DTSTART:20231029T010000
END:STANDARD
BEGIN:DAYLIGHT
TZOFFSETFROM:+0100
TZOFFSETTO:+0200
TZNAME:CEST
DTSTART:20240331T010000
END:DAYLIGHT
BEGIN:STANDARD
TZOFFSETFROM:+0200
TZOFFSETTO:+0100
TZNAME:CET
DTSTART:20241027T010000
END:STANDARD
END:VTIMEZONE
BEGIN:VEVENT
DTSTART;TZID=Europe/Paris:20230301T190000
DTEND;TZID=Europe/Paris:20230301T200000
DTSTAMP:20260422T194607
CREATED:20230224T070019Z
LAST-MODIFIED:20230224T070436Z
UID:11128-1677697200-1677700800@dbhz.hr
SUMMARY:Predstavljanje knjige: ZRIN: SREDNJOVJEKOVNO SIJELO KNEZOVA BABONIĆA I ZRINSKIH: TVRDI GRAD\, URBANA AGLOMERACIJA I POSJED
DESCRIPTION:Autori:\nizv. prof. dr. sc. Hrvoje Kekez\, Zmaj od Katuna i dr. sc. Krešimir Regan \nModerator:\ndr. sc. Mario Jareb\, Zmaj Jurjevgradski od Tribunja\, pročelnik Povijesne sekcije \nOrganizator:\nPovijesna sekcija
URL:https://dbhz.hr/najava/predstavljanje-knjige-zrin-srednjovjekovno-sijelo-knezova-babonica-i-zrinskih-tvrdi-grad-urbana-aglomeracija-i-posjed/
LOCATION:Kula nad Kamenitim vratima\, Družba „Braća Hrvatskoga Zmaja“\, Kamenita ulica 3\, ZAGREB\, 10000
CATEGORIES:Predstavljanja knjiga, publikacija, osoba...
ATTACH;FMTTYPE=image/jpeg:https://dbhz.hr/wp-content/uploads/2023/02/2023_03_01_zrin_600x850.jpg
END:VEVENT
END:VCALENDAR