BEGIN:VCALENDAR
VERSION:2.0
PRODID:-//Družba &quot;Braća Hrvatskoga Zmaja&quot; - ECPv6.15.18//NONSGML v1.0//EN
CALSCALE:GREGORIAN
METHOD:PUBLISH
X-WR-CALNAME:Družba &quot;Braća Hrvatskoga Zmaja&quot;
X-ORIGINAL-URL:https://dbhz.hr
X-WR-CALDESC:Događaji za Družba &quot;Braća Hrvatskoga Zmaja&quot;
REFRESH-INTERVAL;VALUE=DURATION:PT1H
X-Robots-Tag:noindex
X-PUBLISHED-TTL:PT1H
BEGIN:VTIMEZONE
TZID:Europe/Helsinki
BEGIN:DAYLIGHT
TZOFFSETFROM:+0200
TZOFFSETTO:+0300
TZNAME:EEST
DTSTART:20230326T010000
END:DAYLIGHT
BEGIN:STANDARD
TZOFFSETFROM:+0300
TZOFFSETTO:+0200
TZNAME:EET
DTSTART:20231029T010000
END:STANDARD
BEGIN:DAYLIGHT
TZOFFSETFROM:+0200
TZOFFSETTO:+0300
TZNAME:EEST
DTSTART:20240331T010000
END:DAYLIGHT
BEGIN:STANDARD
TZOFFSETFROM:+0300
TZOFFSETTO:+0200
TZNAME:EET
DTSTART:20241027T010000
END:STANDARD
BEGIN:DAYLIGHT
TZOFFSETFROM:+0200
TZOFFSETTO:+0300
TZNAME:EEST
DTSTART:20250330T010000
END:DAYLIGHT
BEGIN:STANDARD
TZOFFSETFROM:+0300
TZOFFSETTO:+0200
TZNAME:EET
DTSTART:20251026T010000
END:STANDARD
END:VTIMEZONE
BEGIN:VEVENT
DTSTART;TZID=Europe/Helsinki:20240619T190000
DTEND;TZID=Europe/Helsinki:20240619T200000
DTSTAMP:20260422T203140
CREATED:20240529T120023Z
LAST-MODIFIED:20240630T094518Z
UID:14844-1718823600-1718827200@dbhz.hr
SUMMARY:Predstavljanje: ZAKONA O HRVATSKOM JEZIKU
DESCRIPTION:Sudjeluju: \n\n\n\nakademik Miro Gavran\, predsjednik Matice hrvatske;\nAndro Krstulović Opara\, Zmaj Splitski IV.\, pročelnik Zmajskog stola u Splitu;\ndr. sc. Mario Jareb\, Zmaj Jurjevgradski od Tribunja\, pročelnik Povijesne sekcije i dopredsjednik Matice hrvatske;\ndr. sc. Tomislav Stojanov\, počasni istraživač Sveučilišta u Nottinghamu\, Ujedinjeno Kraljevstvo;\nprof. dr. sc. Mario Grčević\, Odsjek za kroatologiju\, Fakultet hrvatskih studija Sveučilišta u Zagrebu.\n\n\n\n \nOrganizator:\nMeštarski zbor Družbe „Braća Hrvatskoga Zmaja“
URL:https://dbhz.hr/najava/predstavljanje-zakona-o-hrvatskom-jeziku/
LOCATION:Kula nad Kamenitim vratima\, Družba „Braća Hrvatskoga Zmaja“\, Kamenita ulica 3\, ZAGREB\, 10000
CATEGORIES:Predstavljanja knjiga, publikacija, osoba...
ATTACH;FMTTYPE=image/jpeg:https://dbhz.hr/wp-content/uploads/2024/05/ZV_2024_06_Zakon-o-hrvatskom-jeziku.jpg
END:VEVENT
END:VCALENDAR