BEGIN:VCALENDAR
VERSION:2.0
PRODID:-//Družba &quot;Braća Hrvatskoga Zmaja&quot; - ECPv6.15.18//NONSGML v1.0//EN
CALSCALE:GREGORIAN
METHOD:PUBLISH
X-WR-CALNAME:Družba &quot;Braća Hrvatskoga Zmaja&quot;
X-ORIGINAL-URL:https://dbhz.hr
X-WR-CALDESC:Događaji za Družba &quot;Braća Hrvatskoga Zmaja&quot;
REFRESH-INTERVAL;VALUE=DURATION:PT1H
X-Robots-Tag:noindex
X-PUBLISHED-TTL:PT1H
BEGIN:VTIMEZONE
TZID:Europe/Helsinki
BEGIN:DAYLIGHT
TZOFFSETFROM:+0200
TZOFFSETTO:+0300
TZNAME:EEST
DTSTART:20230326T010000
END:DAYLIGHT
BEGIN:STANDARD
TZOFFSETFROM:+0300
TZOFFSETTO:+0200
TZNAME:EET
DTSTART:20231029T010000
END:STANDARD
BEGIN:DAYLIGHT
TZOFFSETFROM:+0200
TZOFFSETTO:+0300
TZNAME:EEST
DTSTART:20240331T010000
END:DAYLIGHT
BEGIN:STANDARD
TZOFFSETFROM:+0300
TZOFFSETTO:+0200
TZNAME:EET
DTSTART:20241027T010000
END:STANDARD
BEGIN:DAYLIGHT
TZOFFSETFROM:+0200
TZOFFSETTO:+0300
TZNAME:EEST
DTSTART:20250330T010000
END:DAYLIGHT
BEGIN:STANDARD
TZOFFSETFROM:+0300
TZOFFSETTO:+0200
TZNAME:EET
DTSTART:20251026T010000
END:STANDARD
END:VTIMEZONE
BEGIN:VEVENT
DTSTART;TZID=Europe/Helsinki:20240210T110000
DTEND;TZID=Europe/Helsinki:20240210T130000
DTSTAMP:20260422T085050
CREATED:20240201T120021Z
LAST-MODIFIED:20240201T115649Z
UID:13130-1707562800-1707570000@dbhz.hr
SUMMARY:STEPINČEVO NA KLIŠKOJ TVRĐAVI
DESCRIPTION:Program: \n\nSvečano euharistijsko slavlje u crkvi svetog Vida u čast blaženog Alojzija kardinala Stepinca\, Zmaja od Bakačeve Kule.\nKrasnoslov hrvatskih pjesnika Nađana Dumanića i Anke Bodrožić.\nPrigodni glazbeni program.\nPredavanje i prikazivanje dokumentarnog filma iz komunističkih vremena o blaženom Alojziju kardinalu Stepincu.\nOtvaranje izložbe karikatura „Alojzije Stepinac u slici i riječi – Utjecaj komunističke propagande na stvaranje negativne slike o zagrebačkom nadbiskupu“ u prostoru Topničke vojarne.\n\nSudjeluju: \n\nprof. emer. dr. sc. Antun Tucak\, Zmaj Sovićki\, pročelnik Zmajskog stola u Osijeku\, član Kapitula Zlatnoga Zmaja i član Zmajskog areopaga\nMeštar kapelan mons. prof. dr. sc. Vladimir Dugalić\, Zmaj Osječki od Svetog Josipa\, zamjenik pročelnika Zmajskog stola u Osijeku\nIvica Završki\, dipl. iur.\, Zmaj Osječko Gornjogradski\, tajnik Zmajskog stola u Osijeku\n\nModerator:\nmons. prof. dr. sc. Vladimir Dugalić\, Zmaj Osječki od Svetog Josipa. \nSuorganizatori:\nZmajski stol u Osijeku\, Zmajski stol u Splitu\, Ogranak Matice hrvatske u Osijeku\, Ogranak Matice hrvatske u Splitu\, Povijesna postrojba „Kliški uskoci“\, Hrvatska udruga Benedikt. \nPokrovitelj:\nSplitsko-dalmatinska županija i Općina Klis.
URL:https://dbhz.hr/najava/stepincevo-na-kliskoj-tvrdavi/
LOCATION:Tvrđava Klis\, Trg Mejdan 10\, Klis\, 21231\, Croatia (Local Name: Hrvatska)
CATEGORIES:Blagdani i spomendani
ATTACH;FMTTYPE=image/jpeg:https://dbhz.hr/wp-content/uploads/2024/02/ZV_2024_02_Klis_Stepinac.jpg
END:VEVENT
END:VCALENDAR