BEGIN:VCALENDAR
VERSION:2.0
PRODID:-//Družba &quot;Braća Hrvatskoga Zmaja&quot; - ECPv6.15.18//NONSGML v1.0//EN
CALSCALE:GREGORIAN
METHOD:PUBLISH
X-WR-CALNAME:Družba &quot;Braća Hrvatskoga Zmaja&quot;
X-ORIGINAL-URL:https://dbhz.hr
X-WR-CALDESC:Događaji za Družba &quot;Braća Hrvatskoga Zmaja&quot;
REFRESH-INTERVAL;VALUE=DURATION:PT1H
X-Robots-Tag:noindex
X-PUBLISHED-TTL:PT1H
BEGIN:VTIMEZONE
TZID:Europe/Paris
BEGIN:DAYLIGHT
TZOFFSETFROM:+0100
TZOFFSETTO:+0200
TZNAME:CEST
DTSTART:20220327T010000
END:DAYLIGHT
BEGIN:STANDARD
TZOFFSETFROM:+0200
TZOFFSETTO:+0100
TZNAME:CET
DTSTART:20221030T010000
END:STANDARD
BEGIN:DAYLIGHT
TZOFFSETFROM:+0100
TZOFFSETTO:+0200
TZNAME:CEST
DTSTART:20230326T010000
END:DAYLIGHT
BEGIN:STANDARD
TZOFFSETFROM:+0200
TZOFFSETTO:+0100
TZNAME:CET
DTSTART:20231029T010000
END:STANDARD
BEGIN:DAYLIGHT
TZOFFSETFROM:+0100
TZOFFSETTO:+0200
TZNAME:CEST
DTSTART:20240331T010000
END:DAYLIGHT
BEGIN:STANDARD
TZOFFSETFROM:+0200
TZOFFSETTO:+0100
TZNAME:CET
DTSTART:20241027T010000
END:STANDARD
END:VTIMEZONE
BEGIN:VEVENT
DTSTART;TZID=Europe/Paris:20230423T080000
DTEND;TZID=Europe/Paris:20230423T090000
DTSTAMP:20260422T001020
CREATED:20230331T070041Z
LAST-MODIFIED:20230417T164203Z
UID:11278-1682236800-1682240400@dbhz.hr
SUMMARY:SVEČANA SVETA MISA - CRKVA SV. JURJA NA PUTALJU
DESCRIPTION:Organizator:\nZmajski stol u Splitu.
URL:https://dbhz.hr/najava/vecana-sveta-misa-crkva-sv-jurja-na-putalju/
LOCATION:Crkva sv. Jurja na Putalju\, Kaštel Sućurac\, 21212
CATEGORIES:Blagoslovi i mise
ATTACH;FMTTYPE=image/jpeg:https://dbhz.hr/wp-content/uploads/2023/03/featured_2023_04_23.jpg
END:VEVENT
END:VCALENDAR