BEGIN:VCALENDAR
VERSION:2.0
PRODID:-//Družba &quot;Braća Hrvatskoga Zmaja&quot; - ECPv6.15.18//NONSGML v1.0//EN
CALSCALE:GREGORIAN
METHOD:PUBLISH
X-WR-CALNAME:Družba &quot;Braća Hrvatskoga Zmaja&quot;
X-ORIGINAL-URL:https://dbhz.hr
X-WR-CALDESC:Događaji za Družba &quot;Braća Hrvatskoga Zmaja&quot;
REFRESH-INTERVAL;VALUE=DURATION:PT1H
X-Robots-Tag:noindex
X-PUBLISHED-TTL:PT1H
BEGIN:VTIMEZONE
TZID:Europe/Helsinki
BEGIN:DAYLIGHT
TZOFFSETFROM:+0200
TZOFFSETTO:+0300
TZNAME:EEST
DTSTART:20230326T010000
END:DAYLIGHT
BEGIN:STANDARD
TZOFFSETFROM:+0300
TZOFFSETTO:+0200
TZNAME:EET
DTSTART:20231029T010000
END:STANDARD
BEGIN:DAYLIGHT
TZOFFSETFROM:+0200
TZOFFSETTO:+0300
TZNAME:EEST
DTSTART:20240331T010000
END:DAYLIGHT
BEGIN:STANDARD
TZOFFSETFROM:+0300
TZOFFSETTO:+0200
TZNAME:EET
DTSTART:20241027T010000
END:STANDARD
BEGIN:DAYLIGHT
TZOFFSETFROM:+0200
TZOFFSETTO:+0300
TZNAME:EEST
DTSTART:20250330T010000
END:DAYLIGHT
BEGIN:STANDARD
TZOFFSETFROM:+0300
TZOFFSETTO:+0200
TZNAME:EET
DTSTART:20251026T010000
END:STANDARD
END:VTIMEZONE
BEGIN:VEVENT
DTSTART;TZID=Europe/Helsinki:20240124T190000
DTEND;TZID=Europe/Helsinki:20240124T200000
DTSTAMP:20260423T192933
CREATED:20240103T080009Z
LAST-MODIFIED:20240103T075645Z
UID:12828-1706122800-1706126400@dbhz.hr
SUMMARY:Panel: HRVATSKA BAŠTINA U DIGITALNOM OKRUŽENJU: NOVE MOGUĆNOSTI PREDSTAVLJANJA ARHIVSKIH IZVORA
DESCRIPTION:Panelisti: \n\ndoc. dr. sc. Vlatka Lemić\, rukovoditeljica Središnjeg ureda za arhivsku građu Sveučilišta u Zagrebu;\ndr. sc. Koraljka Kuzman Šlogar\, voditeljica Odjela dokumentacije u Institutu za etnologiju i folkloristiku\, nacionalni DARIAH koordinator.\n\nOpis panela:\nIzlaganje će prikazati aktualnosti iz europskih projekata i praksi te programe i iskustva hrvatskih baštinskih i kulturnih ustanova kroz njihove tekuće aktivnosti i inicijative u digitalnom okruženju. Naglasak je aktivnostima posvećenima razvoju publike i inovativnom pristupu istraživanju povijesnih izvora omogućavanjem njihove online dostupnosti\, kao i na mogućnostima umrežavanja i predstavljanja arhivskih zapisa u različitim digitalnim repozitorijima i suradničkim platformama. \nOrganizatorica:\nizv. prof. dr. sc. Snježana Schuster\, prof. struč. studija u trajnom izboru\, magistra arheologije i fizioterapije\, Zdravstveno veleučilište i Kineziološki fakultet Sveučilišta u Zagrebu\, zmajska pripravnica
URL:https://dbhz.hr/najava/panel-hrvatska-bastina-u-digitalnom-okruzenju-nove-mogucnosti-predstavljanja-arhivskih-izvora/
LOCATION:Kula nad Kamenitim vratima\, Družba „Braća Hrvatskoga Zmaja“\, Kamenita ulica 3\, ZAGREB\, 10000
CATEGORIES:Panel-rasprava
ATTACH;FMTTYPE=image/jpeg:https://dbhz.hr/wp-content/uploads/2024/01/ZV_2024_01_Lemic_Slogar_Schuster_Panel.jpg
END:VEVENT
END:VCALENDAR