BEGIN:VCALENDAR
VERSION:2.0
PRODID:-//Družba &quot;Braća Hrvatskoga Zmaja&quot; - ECPv6.15.18//NONSGML v1.0//EN
CALSCALE:GREGORIAN
METHOD:PUBLISH
X-WR-CALNAME:Družba &quot;Braća Hrvatskoga Zmaja&quot;
X-ORIGINAL-URL:https://dbhz.hr
X-WR-CALDESC:Događaji za Družba &quot;Braća Hrvatskoga Zmaja&quot;
REFRESH-INTERVAL;VALUE=DURATION:PT1H
X-Robots-Tag:noindex
X-PUBLISHED-TTL:PT1H
BEGIN:VTIMEZONE
TZID:Europe/Helsinki
BEGIN:DAYLIGHT
TZOFFSETFROM:+0200
TZOFFSETTO:+0300
TZNAME:EEST
DTSTART:20240331T010000
END:DAYLIGHT
BEGIN:STANDARD
TZOFFSETFROM:+0300
TZOFFSETTO:+0200
TZNAME:EET
DTSTART:20241027T010000
END:STANDARD
BEGIN:DAYLIGHT
TZOFFSETFROM:+0200
TZOFFSETTO:+0300
TZNAME:EEST
DTSTART:20250330T010000
END:DAYLIGHT
BEGIN:STANDARD
TZOFFSETFROM:+0300
TZOFFSETTO:+0200
TZNAME:EET
DTSTART:20251026T010000
END:STANDARD
BEGIN:DAYLIGHT
TZOFFSETFROM:+0200
TZOFFSETTO:+0300
TZNAME:EEST
DTSTART:20260329T010000
END:DAYLIGHT
BEGIN:STANDARD
TZOFFSETFROM:+0300
TZOFFSETTO:+0200
TZNAME:EET
DTSTART:20261025T010000
END:STANDARD
END:VTIMEZONE
BEGIN:VEVENT
DTSTART;TZID=Europe/Helsinki:20250108T190000
DTEND;TZID=Europe/Helsinki:20250108T200000
DTSTAMP:20260422T003603
CREATED:20250101T120052Z
LAST-MODIFIED:20250101T112412Z
UID:15988-1736362800-1736366400@dbhz.hr
SUMMARY:Predavanje: „ZMAJSKA HERALDIKA - POVIJEST\, PRAVILA\, ZNAČENJA I KAKO NASTAJE OSOBNI ZMAJSKI GRB“
DESCRIPTION:Predavač:\nMeštar obredničar pukovnik doc. dr. sc. Željko Heimer\, Zmaj od Mesničkih vrata\, herold Družbe \nOpis predavanja:\nZmajska heraldika doista je vrijedan fenomen hrvatske baštine koji se razvio i njeguje u našoj časnoj Družbi i uz municipalnu i crkvenu heraldiku jedino je područje heraldike u kojem i dalje nastaju novi grbovi. Predavač koji od 2019. godine obnaša dužnost herolda Družbe te istražuje i objavljuje znanstvene radove na tu temu\, prikazat će kako je zmajska heraldika nastala i kako se razvijala od osnivanja Družbe do njezine zabrane nakon 2. svjetskog rata te kako je ta tradicija obnovljena i nastavljena nakon obnove Družbe 1990. godine do danas. Posebno će se razmotriti elementi zmajskih grbova koji nose određena značenja te postupak nastanka i dodjele novih grbova danas. \nOrganizator:\nDružba „Braća Hrvatskoga Zmaja“
URL:https://dbhz.hr/najava/predavanje-zmajska-heraldika-povijest-pravila-znacenja-i-kako-nastaje-osobni-zmajski-grb/
LOCATION:Kula nad Kamenitim vratima\, Družba „Braća Hrvatskoga Zmaja“\, Kamenita ulica 3\, ZAGREB\, 10000
CATEGORIES:Predavanja
ATTACH;FMTTYPE=image/jpeg:https://dbhz.hr/wp-content/uploads/2025/01/ZV_2025_01_Heimer.jpg
END:VEVENT
END:VCALENDAR