BEGIN:VCALENDAR
VERSION:2.0
PRODID:-//Družba &quot;Braća Hrvatskoga Zmaja&quot; - ECPv6.15.18//NONSGML v1.0//EN
CALSCALE:GREGORIAN
METHOD:PUBLISH
X-ORIGINAL-URL:https://dbhz.hr
X-WR-CALDESC:Događaji za Družba &quot;Braća Hrvatskoga Zmaja&quot;
REFRESH-INTERVAL;VALUE=DURATION:PT1H
X-Robots-Tag:noindex
X-PUBLISHED-TTL:PT1H
BEGIN:VTIMEZONE
TZID:Europe/Helsinki
BEGIN:DAYLIGHT
TZOFFSETFROM:+0200
TZOFFSETTO:+0300
TZNAME:EEST
DTSTART:20240331T010000
END:DAYLIGHT
BEGIN:STANDARD
TZOFFSETFROM:+0300
TZOFFSETTO:+0200
TZNAME:EET
DTSTART:20241027T010000
END:STANDARD
BEGIN:DAYLIGHT
TZOFFSETFROM:+0200
TZOFFSETTO:+0300
TZNAME:EEST
DTSTART:20250330T010000
END:DAYLIGHT
BEGIN:STANDARD
TZOFFSETFROM:+0300
TZOFFSETTO:+0200
TZNAME:EET
DTSTART:20251026T010000
END:STANDARD
BEGIN:DAYLIGHT
TZOFFSETFROM:+0200
TZOFFSETTO:+0300
TZNAME:EEST
DTSTART:20260329T010000
END:DAYLIGHT
BEGIN:STANDARD
TZOFFSETFROM:+0300
TZOFFSETTO:+0200
TZNAME:EET
DTSTART:20261025T010000
END:STANDARD
END:VTIMEZONE
BEGIN:VEVENT
DTSTART;TZID=Europe/Helsinki:20250402T190000
DTEND;TZID=Europe/Helsinki:20250402T200000
DTSTAMP:20260421T193437
CREATED:20250327T100054Z
LAST-MODIFIED:20250327T093325Z
UID:16802-1743620400-1743624000@dbhz.hr
SUMMARY:Predavanje: „SPAVA LI POD ZAGREBOM ZMAJ?“
DESCRIPTION:Predavač:\nprof. dr. sc. Ljiljana Marks \nOpis predavanja:\nZmajevi su mitska bića koja su znana u hrvatskoj usmenoj tradiciji u predajama\, bajkama\, baladama\, epici. Povezuju se i kršćanskom predodžbom o vragu kao zmaju\, junacima i budućim svecima koji spašavaju narod od zmaja te sličnim likovima iz srednjovjekovnoga imaginarija: basiliskom\, lintvurmom (Lindwurm)\, zmijom. Žive ispod gradova\, crkava\, dvoraca ili u jezerima i močvarama te trajno prijete ljudima. Istjerati i protjerati ih može\, u predajama\, samo grabancijaš i stvarni i pomalo mitski lik iz usmenoknjiževne tradicije i književnosti sjeverne Hrvatske. Narativi o tome\, zabilježeni još i u drugoj polovici 20. stoljeća\, počivaju na vjerovanju da su neki sjemeništarci u Zagrebu\, učenici „crne škole“\, završili i takozvanu „trinaestu školu“\, čarobnjačku\, da su grabancijaši\, dijaci črne škole\, da mogu jahati na pozoju\, zmaju\, delati tuču\, ali i pomoći: odvratiti tuču\, vraćati i liječiti raznim travama. Okosnica predavanja upravo su zapisi usmenih predaje o zmajevima i grabancijašima – s refleksijama na hrvatsku pisanu književnost – i njihova interpretacija u lokalnome i europskome kontekstu. \nBiografija predavačice:\nLjiljana Marks\, rođena u Đurđenovcu\, diplomirala\, magistrirala i doktorirala na Filozofskom fakultetu Sveučilišta u Zagrebu. Cijeli radni vijek provela je u Institutu za etnologiju i folkloristiku. Glavna su područja njezina istraživanja stilistički postupci tradicijskih pripovjedača\, povijesni i suvremeni zapisi i pristupi usmenoj književnosti\, napose predajama\, (usmeno)književna topografija (npr. Zagreba\, Beča)\, uporabe i artikulacije usmenih priča u historiografskim (npr. B. A. Krčelić)\, književnim (npr. A. Šenoa\, Zagorka) tekstovima te u političkom ili promidžbenom diskursu. U knjigama „Vekivečni Zagreb“ (1994\, 22000 32010)\, nagrađenoj 1994. nagradom Grada Zagreba\, kao i u „Zagreb u pričama i predajama“\, interpretira i dokumentira zagrebačku usmenu i književnu tradiciju. Kritički uredila i komentirala više pregleda priča (npr. Zlarin\, Župa i Rijeka dubrovačka) te dvije zbirke hrvatskih pučkih molitvica. Objavljuje u brojnim domaćim i međunarodnim časopisima\, zbornicima i knjigama. Njezini zapisi terenskih istraživanja (Kordun\, Slavonija\, Dalmacija\, Međimurje\, Zagreb i dr.) književnog folklora čuvaju se u Dokumentaciji Instituta za etnologiju i folkloristiku.
URL:https://dbhz.hr/najava/predavanje-spava-li-pod-zagrebom-zmaj/
LOCATION:Kula nad Kamenitim vratima\, Družba „Braća Hrvatskoga Zmaja“\, Kamenita ulica 3\, ZAGREB\, 10000
CATEGORIES:Predavanja
ATTACH;FMTTYPE=image/jpeg:https://dbhz.hr/wp-content/uploads/2025/03/ZV_2025_04_najava_01_Ljiljana_Marks.jpg
END:VEVENT
BEGIN:VEVENT
DTSTART;TZID=Europe/Helsinki:20250409T190000
DTEND;TZID=Europe/Helsinki:20250409T200000
DTSTAMP:20260421T193437
CREATED:20250327T100020Z
LAST-MODIFIED:20250409T092636Z
UID:16818-1744225200-1744228800@dbhz.hr
SUMMARY:Predavanje: „RAZVOJ KAZNENOG PRAVA KROZ SVJETSKU I HRVATSKU POVIJEST - ODABRANA POGLAVLJA“
DESCRIPTION:ZBOG BOLESTI PREDAVAČA\, DANAŠNJE PREDAVANJE U KULI NAD KAMENITIM VRATIMA SE OTKAZUJE. \nPredavač:\ndr. sc. Lana Milivojević\, prof. struč. stud.\, zmajska pripravnica \nKraći opis predavanja:\nLjudi su od pamtivijeka uređivali međusobne odnose u društvu. U početku pravo\, pa tako i kazneno pravo bilo je običajno pravo\, a kako se društvo razvijalo odnosi u društvu su se počeli formalno propisivati\, što je dovelo do pojave pisanih propisa. Različita razdoblja povijesti nose u sebi različite tendencije koje su se oslikavale i na kazneno pravo. Ovo predavanje provesti će Vas kroz zanimljivu i živopisnu priču odabranih poglavlja razvoja kaznenopravne povijesti u svijetu i Hrvatskoj do danas\, koji nam dosta toga govori i o razvoju same civilizacije. \nKratki sadržaj predavanja:\nUvodno o razvoju kaznenog prava kroz povijest i periodizacijama. Što se i kako mijenjalo kroz svjetsku i hrvatsku kaznenopravnu povijest (države starog vijeka (Hamurabijev zakonik)\, srednji vijek (običajno/kanonsko pravo\, značaj kodifikacije Constitucio Criminalis Carolina – inkvizicija/ Hrvatska-statuti gradova kao izvori kaznenog prava\, inkvizicija i suđenje vješticama-primjer konkretnih zagrebačkih suđenja iz zapisnika)\, period od Francuske revolucije do kraja 19. stoljeća (značaj Francuske revolucije i Deklaracije o pravima čovjeka i građanina za razvoj kaznenog prava\, prosvijećene misli Cesare Beccaria\, Hrvatska – dr. Marijan Derenčin i prijedlog hrvatskog Kaznenog zakona)\, suvremeno doba (razvoj škola kaznenog prava i nekih novih tendencija\, Hrvatska – dr. Josip Šilović i njegov značaj\, moderni hrvatski Kazneni zakoni do danas\, pojedini izazovi današnjeg kaznenog prava).
URL:https://dbhz.hr/najava/predavanje-razvoj-kaznenog-prava-kroz-svjetsku-i-hrvatsku-povijest-odabrana-poglavlja/
LOCATION:Kula nad Kamenitim vratima\, Družba „Braća Hrvatskoga Zmaja“\, Kamenita ulica 3\, ZAGREB\, 10000
CATEGORIES:Predavanja
ATTACH;FMTTYPE=image/jpeg:https://dbhz.hr/wp-content/uploads/2025/03/ZV_2025_04_najava_04_Lana_Milivojevic_otkazano.jpg
END:VEVENT
BEGIN:VEVENT
DTSTART;TZID=Europe/Helsinki:20250416T190000
DTEND;TZID=Europe/Helsinki:20250416T200000
DTSTAMP:20260421T193437
CREATED:20250327T100013Z
LAST-MODIFIED:20250327T095138Z
UID:16822-1744830000-1744833600@dbhz.hr
SUMMARY:Predavanje: „UTJECAJ STAROHRVATSKE MITOLOGIJE NA KRŠĆANSKA VJEROVANJA NA PRIMJERU SVETOG JURJA“
DESCRIPTION:Predavač:\nBarbara Vlahović \nOpis predavanja:\nUvriježeno je mišljenje da je širenjem kršćanstva na Zapadu nestalo mnogoboštvo te da su stara vjerovanja zamijenjena kršćanskim nauk\, dok su poganski obredi zabranjeni i zaboravljeni\, a na lokacijama starih svetišta niču nove kršćanske bogomolje. Međutim\, kompilacijom i analizom pučkih napjeva\, obreda\, mitova i legendi te na primjeru prijenosa atributa poput fizičkog opisa\, simbolike i elemenata zaštite sa slavenskog božanstva Jarila na kršćanskog sveca\, svetog Jurja\, primjećuje se da starohrvatski sustav vjerovanja nije u potpunosti iščeznuo\, nego je on djelomično preživio i uklopio se u monoteističko kršćanstvo. Također se uočava i prilagodba kršćanstva na različita stara vjerovanja\, kulturu i tradiciju kako bi privuklo i integriralo nove sljedbenike. Stara vjera nije netragom nestala\, nego je obogatila novu i u tragovima je prisutna do današnjih vremena. \nBiografija predavačice:\nBarbara Vlahović rođena je u Dubrovniku gdje je pohađala Sportsku gimnaziju. Godine 2017. diplomirala je na Sveučilištu u Dubrovniku\, na diplomskom studiju Mediji\, obranom teme „Utjecaj hrvatskih nacionalnih tiskanih medija na društvenu percepciju terorizma“ i stekla akademski naziv magistra javnih medija. Godine 2023. upisala je poslijediplomski doktorski studij povijesti na Fakultetu hrvatskih studija Sveučilišta u Zagrebu. Područje interesa su joj suvremena hrvatska povijest s naglaskom na razdoblje Drugog svjetskog rata u Dalmaciji te povijest Dubrovnika i okolice nakon ukidanja Dubrovačke Republike.
URL:https://dbhz.hr/najava/predavanje-utjecaj-starohrvatske-mitologije-na-krscanska-vjerovanja-na-primjeru-svetog-jurja/
LOCATION:Kula nad Kamenitim vratima\, Družba „Braća Hrvatskoga Zmaja“\, Kamenita ulica 3\, ZAGREB\, 10000
CATEGORIES:Predavanja
ATTACH;FMTTYPE=image/jpeg:https://dbhz.hr/wp-content/uploads/2025/03/ZV_2025_04_najava_06_Barbara_Vlahovic.jpg
END:VEVENT
END:VCALENDAR